BEGIN:VCALENDAR
VERSION:2.0
PRODID:-//CNMI Small Business Development Center Network (SBDC) - ECPv6.15.20//NONSGML v1.0//EN
CALSCALE:GREGORIAN
METHOD:PUBLISH
X-ORIGINAL-URL:https://www.cnmisbdc.com
X-WR-CALDESC:Events for CNMI Small Business Development Center Network (SBDC)
REFRESH-INTERVAL;VALUE=DURATION:PT1H
X-Robots-Tag:noindex
X-PUBLISHED-TTL:PT1H
BEGIN:VTIMEZONE
TZID:Pacific/Saipan
BEGIN:STANDARD
TZOFFSETFROM:+1000
TZOFFSETTO:+1000
TZNAME:ChST
DTSTART:20220101T000000
END:STANDARD
END:VTIMEZONE
BEGIN:VEVENT
DTSTART;TZID=Pacific/Saipan:20231115T080000
DTEND;TZID=Pacific/Saipan:20231115T170000
DTSTAMP:20260423T211212
CREATED:20231213T013308Z
LAST-MODIFIED:20240320T040550Z
UID:10000001-1700035200-1700067600@www.cnmisbdc.com
SUMMARY:Compliance Outreach Training
DESCRIPTION:Dept. of Labor (Oct. ‘23\, Multi-purpose Center\, Saipan)
URL:https://www.cnmisbdc.com/event/compliance-outreach-training/
CATEGORIES:Vendor Opportunities,Events & Outreach,Saipan
END:VEVENT
END:VCALENDAR