BEGIN:VCALENDAR
VERSION:2.0
PRODID:-//CNMI Small Business Development Center Network (SBDC) - ECPv6.15.20//NONSGML v1.0//EN
CALSCALE:GREGORIAN
METHOD:PUBLISH
X-ORIGINAL-URL:https://www.cnmisbdc.com
X-WR-CALDESC:Events for CNMI Small Business Development Center Network (SBDC)
REFRESH-INTERVAL;VALUE=DURATION:PT1H
X-Robots-Tag:noindex
X-PUBLISHED-TTL:PT1H
BEGIN:VTIMEZONE
TZID:Pacific/Saipan
BEGIN:STANDARD
TZOFFSETFROM:+1000
TZOFFSETTO:+1000
TZNAME:ChST
DTSTART:20220101T000000
END:STANDARD
END:VTIMEZONE
BEGIN:VEVENT
DTSTART;VALUE=DATE:20240118
DTEND;VALUE=DATE:20240119
DTSTAMP:20260423T211400
CREATED:20231213T015231Z
LAST-MODIFIED:20240320T040550Z
UID:10000003-1705536000-1705622399@www.cnmisbdc.com
SUMMARY:SBDC 101
DESCRIPTION:CNMI SBDC (Oct. ‘23\, Hyatt Regency Ballroom\, Saipan)
URL:https://www.cnmisbdc.com/event/sbdc-101/
LOCATION:Hyatt Regency\, Saipan\, MP\, 96950\, Northern Mariana Islands
CATEGORIES:Vendor Opportunities,Events & Outreach,Saipan
END:VEVENT
BEGIN:VEVENT
DTSTART;TZID=Pacific/Saipan:20231215T080000
DTEND;TZID=Pacific/Saipan:20231215T170000
DTSTAMP:20260423T211400
CREATED:20231213T013423Z
LAST-MODIFIED:20240320T032035Z
UID:10000002-1702627200-1702659600@www.cnmisbdc.com
SUMMARY:Brick & Mortar to Click & Order
DESCRIPTION:CNMI SBDC (Oct.\, ‘23\, Rota NMC Center)
URL:https://www.cnmisbdc.com/event/brick-mortar-to-click-order/
CATEGORIES:Vendor Opportunities,Events & Outreach,Rota
END:VEVENT
END:VCALENDAR