BEGIN:VCALENDAR
VERSION:2.0
PRODID:-//CNMI Small Business Development Center Network (SBDC) - ECPv6.15.20//NONSGML v1.0//EN
CALSCALE:GREGORIAN
METHOD:PUBLISH
X-WR-CALNAME:CNMI Small Business Development Center Network (SBDC)
X-ORIGINAL-URL:https://www.cnmisbdc.com
X-WR-CALDESC:Events for CNMI Small Business Development Center Network (SBDC)
REFRESH-INTERVAL;VALUE=DURATION:PT1H
X-Robots-Tag:noindex
X-PUBLISHED-TTL:PT1H
BEGIN:VTIMEZONE
TZID:Pacific/Saipan
BEGIN:STANDARD
TZOFFSETFROM:+1000
TZOFFSETTO:+1000
TZNAME:ChST
DTSTART:20260101T000000
END:STANDARD
END:VTIMEZONE
BEGIN:VEVENT
DTSTART;TZID=Pacific/Saipan:20270602T110000
DTEND;TZID=Pacific/Saipan:20270602T133000
DTSTAMP:20260423T085318
CREATED:20240202T033419Z
LAST-MODIFIED:20240320T040550Z
UID:10000060-1811934000-1811943000@www.cnmisbdc.com
SUMMARY:Saipan Chamber of Commerce General Membership Meeting
DESCRIPTION:
URL:https://www.cnmisbdc.com/event/saipan-chamber-of-commerce-general-membership-meeting/2027-06-02/
CATEGORIES:Vendor Opportunities,Events & Outreach,Saipan
END:VEVENT
BEGIN:VEVENT
DTSTART;VALUE=DATE:20270617
DTEND;VALUE=DATE:20270618
DTSTAMP:20260423T085318
CREATED:20240202T033506Z
LAST-MODIFIED:20240320T040549Z
UID:10000180-1813190400-1813276799@www.cnmisbdc.com
SUMMARY:Saipan Chamber of Commerce Armed Forces Committee Meeting
DESCRIPTION:
URL:https://www.cnmisbdc.com/event/saipan-chamber-of-commerce-armed-forces-committee-meeting-del-magofna-cnmi-sbdc-representative/2027-06-17/
CATEGORIES:Vendor Opportunities,Events & Outreach,Saipan
END:VEVENT
BEGIN:VEVENT
DTSTART;TZID=Pacific/Saipan:20270707T110000
DTEND;TZID=Pacific/Saipan:20270707T133000
DTSTAMP:20260423T085318
CREATED:20240202T033419Z
LAST-MODIFIED:20240320T040550Z
UID:10000061-1814958000-1814967000@www.cnmisbdc.com
SUMMARY:Saipan Chamber of Commerce General Membership Meeting
DESCRIPTION:
URL:https://www.cnmisbdc.com/event/saipan-chamber-of-commerce-general-membership-meeting/2027-07-07/
CATEGORIES:Vendor Opportunities,Events & Outreach,Saipan
END:VEVENT
BEGIN:VEVENT
DTSTART;VALUE=DATE:20270715
DTEND;VALUE=DATE:20270716
DTSTAMP:20260423T085318
CREATED:20240202T033506Z
LAST-MODIFIED:20240320T040549Z
UID:10000181-1815609600-1815695999@www.cnmisbdc.com
SUMMARY:Saipan Chamber of Commerce Armed Forces Committee Meeting
DESCRIPTION:
URL:https://www.cnmisbdc.com/event/saipan-chamber-of-commerce-armed-forces-committee-meeting-del-magofna-cnmi-sbdc-representative/2027-07-15/
CATEGORIES:Vendor Opportunities,Events & Outreach,Saipan
END:VEVENT
BEGIN:VEVENT
DTSTART;TZID=Pacific/Saipan:20270804T110000
DTEND;TZID=Pacific/Saipan:20270804T133000
DTSTAMP:20260423T085318
CREATED:20240202T033419Z
LAST-MODIFIED:20240320T040550Z
UID:10000062-1817377200-1817386200@www.cnmisbdc.com
SUMMARY:Saipan Chamber of Commerce General Membership Meeting
DESCRIPTION:
URL:https://www.cnmisbdc.com/event/saipan-chamber-of-commerce-general-membership-meeting/2027-08-04/
CATEGORIES:Vendor Opportunities,Events & Outreach,Saipan
END:VEVENT
BEGIN:VEVENT
DTSTART;VALUE=DATE:20270819
DTEND;VALUE=DATE:20270820
DTSTAMP:20260423T085318
CREATED:20240202T033506Z
LAST-MODIFIED:20240320T040549Z
UID:10000182-1818633600-1818719999@www.cnmisbdc.com
SUMMARY:Saipan Chamber of Commerce Armed Forces Committee Meeting
DESCRIPTION:
URL:https://www.cnmisbdc.com/event/saipan-chamber-of-commerce-armed-forces-committee-meeting-del-magofna-cnmi-sbdc-representative/2027-08-19/
CATEGORIES:Vendor Opportunities,Events & Outreach,Saipan
END:VEVENT
BEGIN:VEVENT
DTSTART;TZID=Pacific/Saipan:20270901T110000
DTEND;TZID=Pacific/Saipan:20270901T133000
DTSTAMP:20260423T085318
CREATED:20240202T033419Z
LAST-MODIFIED:20240320T040550Z
UID:10000063-1819796400-1819805400@www.cnmisbdc.com
SUMMARY:Saipan Chamber of Commerce General Membership Meeting
DESCRIPTION:
URL:https://www.cnmisbdc.com/event/saipan-chamber-of-commerce-general-membership-meeting/2027-09-01/
CATEGORIES:Vendor Opportunities,Events & Outreach,Saipan
END:VEVENT
BEGIN:VEVENT
DTSTART;VALUE=DATE:20270916
DTEND;VALUE=DATE:20270917
DTSTAMP:20260423T085318
CREATED:20240202T033506Z
LAST-MODIFIED:20240320T040549Z
UID:10000183-1821052800-1821139199@www.cnmisbdc.com
SUMMARY:Saipan Chamber of Commerce Armed Forces Committee Meeting
DESCRIPTION:
URL:https://www.cnmisbdc.com/event/saipan-chamber-of-commerce-armed-forces-committee-meeting-del-magofna-cnmi-sbdc-representative/2027-09-16/
CATEGORIES:Vendor Opportunities,Events & Outreach,Saipan
END:VEVENT
BEGIN:VEVENT
DTSTART;TZID=Pacific/Saipan:20271006T110000
DTEND;TZID=Pacific/Saipan:20271006T133000
DTSTAMP:20260423T085318
CREATED:20240202T033419Z
LAST-MODIFIED:20240320T040550Z
UID:10000064-1822820400-1822829400@www.cnmisbdc.com
SUMMARY:Saipan Chamber of Commerce General Membership Meeting
DESCRIPTION:
URL:https://www.cnmisbdc.com/event/saipan-chamber-of-commerce-general-membership-meeting/2027-10-06/
CATEGORIES:Vendor Opportunities,Events & Outreach,Saipan
END:VEVENT
BEGIN:VEVENT
DTSTART;VALUE=DATE:20271021
DTEND;VALUE=DATE:20271022
DTSTAMP:20260423T085318
CREATED:20240202T033506Z
LAST-MODIFIED:20240320T040549Z
UID:10000184-1824076800-1824163199@www.cnmisbdc.com
SUMMARY:Saipan Chamber of Commerce Armed Forces Committee Meeting
DESCRIPTION:
URL:https://www.cnmisbdc.com/event/saipan-chamber-of-commerce-armed-forces-committee-meeting-del-magofna-cnmi-sbdc-representative/2027-10-21/
CATEGORIES:Vendor Opportunities,Events & Outreach,Saipan
END:VEVENT
BEGIN:VEVENT
DTSTART;TZID=Pacific/Saipan:20271103T110000
DTEND;TZID=Pacific/Saipan:20271103T133000
DTSTAMP:20260423T085318
CREATED:20240202T033419Z
LAST-MODIFIED:20240320T040550Z
UID:10000065-1825239600-1825248600@www.cnmisbdc.com
SUMMARY:Saipan Chamber of Commerce General Membership Meeting
DESCRIPTION:
URL:https://www.cnmisbdc.com/event/saipan-chamber-of-commerce-general-membership-meeting/2027-11-03/
CATEGORIES:Vendor Opportunities,Events & Outreach,Saipan
END:VEVENT
BEGIN:VEVENT
DTSTART;VALUE=DATE:20271118
DTEND;VALUE=DATE:20271119
DTSTAMP:20260423T085318
CREATED:20240202T033506Z
LAST-MODIFIED:20240320T040549Z
UID:10000185-1826496000-1826582399@www.cnmisbdc.com
SUMMARY:Saipan Chamber of Commerce Armed Forces Committee Meeting
DESCRIPTION:
URL:https://www.cnmisbdc.com/event/saipan-chamber-of-commerce-armed-forces-committee-meeting-del-magofna-cnmi-sbdc-representative/2027-11-18/
CATEGORIES:Vendor Opportunities,Events & Outreach,Saipan
END:VEVENT
BEGIN:VEVENT
DTSTART;TZID=Pacific/Saipan:20271201T110000
DTEND;TZID=Pacific/Saipan:20271201T133000
DTSTAMP:20260423T085318
CREATED:20240202T033419Z
LAST-MODIFIED:20240320T040550Z
UID:10000066-1827658800-1827667800@www.cnmisbdc.com
SUMMARY:Saipan Chamber of Commerce General Membership Meeting
DESCRIPTION:
URL:https://www.cnmisbdc.com/event/saipan-chamber-of-commerce-general-membership-meeting/2027-12-01/
CATEGORIES:Vendor Opportunities,Events & Outreach,Saipan
END:VEVENT
BEGIN:VEVENT
DTSTART;VALUE=DATE:20271216
DTEND;VALUE=DATE:20271217
DTSTAMP:20260423T085318
CREATED:20240202T033506Z
LAST-MODIFIED:20240320T040549Z
UID:10000186-1828915200-1829001599@www.cnmisbdc.com
SUMMARY:Saipan Chamber of Commerce Armed Forces Committee Meeting
DESCRIPTION:
URL:https://www.cnmisbdc.com/event/saipan-chamber-of-commerce-armed-forces-committee-meeting-del-magofna-cnmi-sbdc-representative/2027-12-16/
CATEGORIES:Vendor Opportunities,Events & Outreach,Saipan
END:VEVENT
BEGIN:VEVENT
DTSTART;TZID=Pacific/Saipan:20280105T110000
DTEND;TZID=Pacific/Saipan:20280105T133000
DTSTAMP:20260423T085318
CREATED:20240202T033419Z
LAST-MODIFIED:20240320T040550Z
UID:10000067-1830682800-1830691800@www.cnmisbdc.com
SUMMARY:Saipan Chamber of Commerce General Membership Meeting
DESCRIPTION:
URL:https://www.cnmisbdc.com/event/saipan-chamber-of-commerce-general-membership-meeting/2028-01-05/
CATEGORIES:Vendor Opportunities,Events & Outreach,Saipan
END:VEVENT
BEGIN:VEVENT
DTSTART;VALUE=DATE:20280120
DTEND;VALUE=DATE:20280121
DTSTAMP:20260423T085318
CREATED:20240202T033506Z
LAST-MODIFIED:20240320T040549Z
UID:10000187-1831939200-1832025599@www.cnmisbdc.com
SUMMARY:Saipan Chamber of Commerce Armed Forces Committee Meeting
DESCRIPTION:
URL:https://www.cnmisbdc.com/event/saipan-chamber-of-commerce-armed-forces-committee-meeting-del-magofna-cnmi-sbdc-representative/2028-01-20/
CATEGORIES:Vendor Opportunities,Events & Outreach,Saipan
END:VEVENT
BEGIN:VEVENT
DTSTART;TZID=Pacific/Saipan:20280202T110000
DTEND;TZID=Pacific/Saipan:20280202T133000
DTSTAMP:20260423T085318
CREATED:20240202T033419Z
LAST-MODIFIED:20240320T040550Z
UID:10000068-1833102000-1833111000@www.cnmisbdc.com
SUMMARY:Saipan Chamber of Commerce General Membership Meeting
DESCRIPTION:
URL:https://www.cnmisbdc.com/event/saipan-chamber-of-commerce-general-membership-meeting/2028-02-02/
CATEGORIES:Vendor Opportunities,Events & Outreach,Saipan
END:VEVENT
BEGIN:VEVENT
DTSTART;VALUE=DATE:20280217
DTEND;VALUE=DATE:20280218
DTSTAMP:20260423T085318
CREATED:20240202T033506Z
LAST-MODIFIED:20240320T040549Z
UID:10000188-1834358400-1834444799@www.cnmisbdc.com
SUMMARY:Saipan Chamber of Commerce Armed Forces Committee Meeting
DESCRIPTION:
URL:https://www.cnmisbdc.com/event/saipan-chamber-of-commerce-armed-forces-committee-meeting-del-magofna-cnmi-sbdc-representative/2028-02-17/
CATEGORIES:Vendor Opportunities,Events & Outreach,Saipan
END:VEVENT
BEGIN:VEVENT
DTSTART;TZID=Pacific/Saipan:20280301T110000
DTEND;TZID=Pacific/Saipan:20280301T133000
DTSTAMP:20260423T085318
CREATED:20240202T033419Z
LAST-MODIFIED:20240320T040550Z
UID:10000069-1835521200-1835530200@www.cnmisbdc.com
SUMMARY:Saipan Chamber of Commerce General Membership Meeting
DESCRIPTION:
URL:https://www.cnmisbdc.com/event/saipan-chamber-of-commerce-general-membership-meeting/2028-03-01/
CATEGORIES:Vendor Opportunities,Events & Outreach,Saipan
END:VEVENT
BEGIN:VEVENT
DTSTART;VALUE=DATE:20280316
DTEND;VALUE=DATE:20280317
DTSTAMP:20260423T085318
CREATED:20240202T033506Z
LAST-MODIFIED:20240320T040549Z
UID:10000189-1836777600-1836863999@www.cnmisbdc.com
SUMMARY:Saipan Chamber of Commerce Armed Forces Committee Meeting
DESCRIPTION:
URL:https://www.cnmisbdc.com/event/saipan-chamber-of-commerce-armed-forces-committee-meeting-del-magofna-cnmi-sbdc-representative/2028-03-16/
CATEGORIES:Vendor Opportunities,Events & Outreach,Saipan
END:VEVENT
BEGIN:VEVENT
DTSTART;TZID=Pacific/Saipan:20280405T110000
DTEND;TZID=Pacific/Saipan:20280405T133000
DTSTAMP:20260423T085318
CREATED:20240202T033419Z
LAST-MODIFIED:20240320T040550Z
UID:10000070-1838545200-1838554200@www.cnmisbdc.com
SUMMARY:Saipan Chamber of Commerce General Membership Meeting
DESCRIPTION:
URL:https://www.cnmisbdc.com/event/saipan-chamber-of-commerce-general-membership-meeting/2028-04-05/
CATEGORIES:Vendor Opportunities,Events & Outreach,Saipan
END:VEVENT
BEGIN:VEVENT
DTSTART;VALUE=DATE:20280420
DTEND;VALUE=DATE:20280421
DTSTAMP:20260423T085318
CREATED:20240202T033506Z
LAST-MODIFIED:20240320T040549Z
UID:10000190-1839801600-1839887999@www.cnmisbdc.com
SUMMARY:Saipan Chamber of Commerce Armed Forces Committee Meeting
DESCRIPTION:
URL:https://www.cnmisbdc.com/event/saipan-chamber-of-commerce-armed-forces-committee-meeting-del-magofna-cnmi-sbdc-representative/2028-04-20/
CATEGORIES:Vendor Opportunities,Events & Outreach,Saipan
END:VEVENT
BEGIN:VEVENT
DTSTART;TZID=Pacific/Saipan:20280503T110000
DTEND;TZID=Pacific/Saipan:20280503T133000
DTSTAMP:20260423T085318
CREATED:20240202T033419Z
LAST-MODIFIED:20240320T040550Z
UID:10000071-1840964400-1840973400@www.cnmisbdc.com
SUMMARY:Saipan Chamber of Commerce General Membership Meeting
DESCRIPTION:
URL:https://www.cnmisbdc.com/event/saipan-chamber-of-commerce-general-membership-meeting/2028-05-03/
CATEGORIES:Vendor Opportunities,Events & Outreach,Saipan
END:VEVENT
BEGIN:VEVENT
DTSTART;VALUE=DATE:20280518
DTEND;VALUE=DATE:20280519
DTSTAMP:20260423T085318
CREATED:20240202T033506Z
LAST-MODIFIED:20240320T040549Z
UID:10000191-1842220800-1842307199@www.cnmisbdc.com
SUMMARY:Saipan Chamber of Commerce Armed Forces Committee Meeting
DESCRIPTION:
URL:https://www.cnmisbdc.com/event/saipan-chamber-of-commerce-armed-forces-committee-meeting-del-magofna-cnmi-sbdc-representative/2028-05-18/
CATEGORIES:Vendor Opportunities,Events & Outreach,Saipan
END:VEVENT
BEGIN:VEVENT
DTSTART;TZID=Pacific/Saipan:20280607T110000
DTEND;TZID=Pacific/Saipan:20280607T133000
DTSTAMP:20260423T085318
CREATED:20240202T033419Z
LAST-MODIFIED:20240320T040550Z
UID:10000072-1843988400-1843997400@www.cnmisbdc.com
SUMMARY:Saipan Chamber of Commerce General Membership Meeting
DESCRIPTION:
URL:https://www.cnmisbdc.com/event/saipan-chamber-of-commerce-general-membership-meeting/2028-06-07/
CATEGORIES:Vendor Opportunities,Events & Outreach,Saipan
END:VEVENT
BEGIN:VEVENT
DTSTART;VALUE=DATE:20280615
DTEND;VALUE=DATE:20280616
DTSTAMP:20260423T085318
CREATED:20240202T033506Z
LAST-MODIFIED:20240320T040549Z
UID:10000192-1844640000-1844726399@www.cnmisbdc.com
SUMMARY:Saipan Chamber of Commerce Armed Forces Committee Meeting
DESCRIPTION:
URL:https://www.cnmisbdc.com/event/saipan-chamber-of-commerce-armed-forces-committee-meeting-del-magofna-cnmi-sbdc-representative/2028-06-15/
CATEGORIES:Vendor Opportunities,Events & Outreach,Saipan
END:VEVENT
BEGIN:VEVENT
DTSTART;TZID=Pacific/Saipan:20280705T110000
DTEND;TZID=Pacific/Saipan:20280705T133000
DTSTAMP:20260423T085318
CREATED:20240202T033419Z
LAST-MODIFIED:20240320T040550Z
UID:10000073-1846407600-1846416600@www.cnmisbdc.com
SUMMARY:Saipan Chamber of Commerce General Membership Meeting
DESCRIPTION:
URL:https://www.cnmisbdc.com/event/saipan-chamber-of-commerce-general-membership-meeting/2028-07-05/
CATEGORIES:Vendor Opportunities,Events & Outreach,Saipan
END:VEVENT
BEGIN:VEVENT
DTSTART;VALUE=DATE:20280720
DTEND;VALUE=DATE:20280721
DTSTAMP:20260423T085318
CREATED:20240202T033506Z
LAST-MODIFIED:20240320T040549Z
UID:10000193-1847664000-1847750399@www.cnmisbdc.com
SUMMARY:Saipan Chamber of Commerce Armed Forces Committee Meeting
DESCRIPTION:
URL:https://www.cnmisbdc.com/event/saipan-chamber-of-commerce-armed-forces-committee-meeting-del-magofna-cnmi-sbdc-representative/2028-07-20/
CATEGORIES:Vendor Opportunities,Events & Outreach,Saipan
END:VEVENT
BEGIN:VEVENT
DTSTART;TZID=Pacific/Saipan:20280802T110000
DTEND;TZID=Pacific/Saipan:20280802T133000
DTSTAMP:20260423T085318
CREATED:20240202T033419Z
LAST-MODIFIED:20240320T040550Z
UID:10000074-1848826800-1848835800@www.cnmisbdc.com
SUMMARY:Saipan Chamber of Commerce General Membership Meeting
DESCRIPTION:
URL:https://www.cnmisbdc.com/event/saipan-chamber-of-commerce-general-membership-meeting/2028-08-02/
CATEGORIES:Vendor Opportunities,Events & Outreach,Saipan
END:VEVENT
BEGIN:VEVENT
DTSTART;VALUE=DATE:20280817
DTEND;VALUE=DATE:20280818
DTSTAMP:20260423T085318
CREATED:20240202T033506Z
LAST-MODIFIED:20240320T040549Z
UID:10000194-1850083200-1850169599@www.cnmisbdc.com
SUMMARY:Saipan Chamber of Commerce Armed Forces Committee Meeting
DESCRIPTION:
URL:https://www.cnmisbdc.com/event/saipan-chamber-of-commerce-armed-forces-committee-meeting-del-magofna-cnmi-sbdc-representative/2028-08-17/
CATEGORIES:Vendor Opportunities,Events & Outreach,Saipan
END:VEVENT
END:VCALENDAR