BEGIN:VCALENDAR
VERSION:2.0
PRODID:-//CNMI Small Business Development Center Network (SBDC) - ECPv6.15.20//NONSGML v1.0//EN
CALSCALE:GREGORIAN
METHOD:PUBLISH
X-ORIGINAL-URL:https://www.cnmisbdc.com
X-WR-CALDESC:Events for CNMI Small Business Development Center Network (SBDC)
REFRESH-INTERVAL;VALUE=DURATION:PT1H
X-Robots-Tag:noindex
X-PUBLISHED-TTL:PT1H
BEGIN:VTIMEZONE
TZID:Pacific/Saipan
BEGIN:STANDARD
TZOFFSETFROM:+1000
TZOFFSETTO:+1000
TZNAME:ChST
DTSTART:20250101T000000
END:STANDARD
END:VTIMEZONE
BEGIN:VEVENT
DTSTART;TZID=Pacific/Saipan:20260701T110000
DTEND;TZID=Pacific/Saipan:20260701T133000
DTSTAMP:20260423T084500
CREATED:20240202T033419Z
LAST-MODIFIED:20240320T040550Z
UID:10000049-1782903600-1782912600@www.cnmisbdc.com
SUMMARY:Saipan Chamber of Commerce General Membership Meeting
DESCRIPTION:
URL:https://www.cnmisbdc.com/event/saipan-chamber-of-commerce-general-membership-meeting/2026-07-01/
CATEGORIES:Vendor Opportunities,Events & Outreach,Saipan
END:VEVENT
BEGIN:VEVENT
DTSTART;VALUE=DATE:20260716
DTEND;VALUE=DATE:20260717
DTSTAMP:20260423T084500
CREATED:20240202T033506Z
LAST-MODIFIED:20240320T040549Z
UID:10000169-1784160000-1784246399@www.cnmisbdc.com
SUMMARY:Saipan Chamber of Commerce Armed Forces Committee Meeting
DESCRIPTION:
URL:https://www.cnmisbdc.com/event/saipan-chamber-of-commerce-armed-forces-committee-meeting-del-magofna-cnmi-sbdc-representative/2026-07-16/
CATEGORIES:Vendor Opportunities,Events & Outreach,Saipan
END:VEVENT
BEGIN:VEVENT
DTSTART;TZID=Pacific/Saipan:20260805T110000
DTEND;TZID=Pacific/Saipan:20260805T133000
DTSTAMP:20260423T084500
CREATED:20240202T033419Z
LAST-MODIFIED:20240320T040550Z
UID:10000050-1785927600-1785936600@www.cnmisbdc.com
SUMMARY:Saipan Chamber of Commerce General Membership Meeting
DESCRIPTION:
URL:https://www.cnmisbdc.com/event/saipan-chamber-of-commerce-general-membership-meeting/2026-08-05/
CATEGORIES:Vendor Opportunities,Events & Outreach,Saipan
END:VEVENT
BEGIN:VEVENT
DTSTART;VALUE=DATE:20260820
DTEND;VALUE=DATE:20260821
DTSTAMP:20260423T084500
CREATED:20240202T033506Z
LAST-MODIFIED:20240320T040549Z
UID:10000170-1787184000-1787270399@www.cnmisbdc.com
SUMMARY:Saipan Chamber of Commerce Armed Forces Committee Meeting
DESCRIPTION:
URL:https://www.cnmisbdc.com/event/saipan-chamber-of-commerce-armed-forces-committee-meeting-del-magofna-cnmi-sbdc-representative/2026-08-20/
CATEGORIES:Vendor Opportunities,Events & Outreach,Saipan
END:VEVENT
BEGIN:VEVENT
DTSTART;TZID=Pacific/Saipan:20260902T110000
DTEND;TZID=Pacific/Saipan:20260902T133000
DTSTAMP:20260423T084500
CREATED:20240202T033419Z
LAST-MODIFIED:20240320T040550Z
UID:10000051-1788346800-1788355800@www.cnmisbdc.com
SUMMARY:Saipan Chamber of Commerce General Membership Meeting
DESCRIPTION:
URL:https://www.cnmisbdc.com/event/saipan-chamber-of-commerce-general-membership-meeting/2026-09-02/
CATEGORIES:Vendor Opportunities,Events & Outreach,Saipan
END:VEVENT
BEGIN:VEVENT
DTSTART;VALUE=DATE:20260917
DTEND;VALUE=DATE:20260918
DTSTAMP:20260423T084500
CREATED:20240202T033506Z
LAST-MODIFIED:20240320T040549Z
UID:10000171-1789603200-1789689599@www.cnmisbdc.com
SUMMARY:Saipan Chamber of Commerce Armed Forces Committee Meeting
DESCRIPTION:
URL:https://www.cnmisbdc.com/event/saipan-chamber-of-commerce-armed-forces-committee-meeting-del-magofna-cnmi-sbdc-representative/2026-09-17/
CATEGORIES:Vendor Opportunities,Events & Outreach,Saipan
END:VEVENT
BEGIN:VEVENT
DTSTART;TZID=Pacific/Saipan:20261007T110000
DTEND;TZID=Pacific/Saipan:20261007T133000
DTSTAMP:20260423T084500
CREATED:20240202T033419Z
LAST-MODIFIED:20240320T040550Z
UID:10000052-1791370800-1791379800@www.cnmisbdc.com
SUMMARY:Saipan Chamber of Commerce General Membership Meeting
DESCRIPTION:
URL:https://www.cnmisbdc.com/event/saipan-chamber-of-commerce-general-membership-meeting/2026-10-07/
CATEGORIES:Vendor Opportunities,Events & Outreach,Saipan
END:VEVENT
BEGIN:VEVENT
DTSTART;VALUE=DATE:20261015
DTEND;VALUE=DATE:20261016
DTSTAMP:20260423T084500
CREATED:20240202T033506Z
LAST-MODIFIED:20240320T040549Z
UID:10000172-1792022400-1792108799@www.cnmisbdc.com
SUMMARY:Saipan Chamber of Commerce Armed Forces Committee Meeting
DESCRIPTION:
URL:https://www.cnmisbdc.com/event/saipan-chamber-of-commerce-armed-forces-committee-meeting-del-magofna-cnmi-sbdc-representative/2026-10-15/
CATEGORIES:Vendor Opportunities,Events & Outreach,Saipan
END:VEVENT
BEGIN:VEVENT
DTSTART;TZID=Pacific/Saipan:20261104T110000
DTEND;TZID=Pacific/Saipan:20261104T133000
DTSTAMP:20260423T084500
CREATED:20240202T033419Z
LAST-MODIFIED:20240320T040550Z
UID:10000053-1793790000-1793799000@www.cnmisbdc.com
SUMMARY:Saipan Chamber of Commerce General Membership Meeting
DESCRIPTION:
URL:https://www.cnmisbdc.com/event/saipan-chamber-of-commerce-general-membership-meeting/2026-11-04/
CATEGORIES:Vendor Opportunities,Events & Outreach,Saipan
END:VEVENT
BEGIN:VEVENT
DTSTART;VALUE=DATE:20261119
DTEND;VALUE=DATE:20261120
DTSTAMP:20260423T084500
CREATED:20240202T033506Z
LAST-MODIFIED:20240320T040549Z
UID:10000173-1795046400-1795132799@www.cnmisbdc.com
SUMMARY:Saipan Chamber of Commerce Armed Forces Committee Meeting
DESCRIPTION:
URL:https://www.cnmisbdc.com/event/saipan-chamber-of-commerce-armed-forces-committee-meeting-del-magofna-cnmi-sbdc-representative/2026-11-19/
CATEGORIES:Vendor Opportunities,Events & Outreach,Saipan
END:VEVENT
BEGIN:VEVENT
DTSTART;TZID=Pacific/Saipan:20261202T110000
DTEND;TZID=Pacific/Saipan:20261202T133000
DTSTAMP:20260423T084500
CREATED:20240202T033419Z
LAST-MODIFIED:20240320T040550Z
UID:10000054-1796209200-1796218200@www.cnmisbdc.com
SUMMARY:Saipan Chamber of Commerce General Membership Meeting
DESCRIPTION:
URL:https://www.cnmisbdc.com/event/saipan-chamber-of-commerce-general-membership-meeting/2026-12-02/
CATEGORIES:Vendor Opportunities,Events & Outreach,Saipan
END:VEVENT
BEGIN:VEVENT
DTSTART;VALUE=DATE:20261217
DTEND;VALUE=DATE:20261218
DTSTAMP:20260423T084500
CREATED:20240202T033506Z
LAST-MODIFIED:20240320T040549Z
UID:10000174-1797465600-1797551999@www.cnmisbdc.com
SUMMARY:Saipan Chamber of Commerce Armed Forces Committee Meeting
DESCRIPTION:
URL:https://www.cnmisbdc.com/event/saipan-chamber-of-commerce-armed-forces-committee-meeting-del-magofna-cnmi-sbdc-representative/2026-12-17/
CATEGORIES:Vendor Opportunities,Events & Outreach,Saipan
END:VEVENT
BEGIN:VEVENT
DTSTART;TZID=Pacific/Saipan:20270106T110000
DTEND;TZID=Pacific/Saipan:20270106T133000
DTSTAMP:20260423T084500
CREATED:20240202T033419Z
LAST-MODIFIED:20240320T040550Z
UID:10000055-1799233200-1799242200@www.cnmisbdc.com
SUMMARY:Saipan Chamber of Commerce General Membership Meeting
DESCRIPTION:
URL:https://www.cnmisbdc.com/event/saipan-chamber-of-commerce-general-membership-meeting/2027-01-06/
CATEGORIES:Vendor Opportunities,Events & Outreach,Saipan
END:VEVENT
BEGIN:VEVENT
DTSTART;VALUE=DATE:20270121
DTEND;VALUE=DATE:20270122
DTSTAMP:20260423T084500
CREATED:20240202T033506Z
LAST-MODIFIED:20240320T040549Z
UID:10000175-1800489600-1800575999@www.cnmisbdc.com
SUMMARY:Saipan Chamber of Commerce Armed Forces Committee Meeting
DESCRIPTION:
URL:https://www.cnmisbdc.com/event/saipan-chamber-of-commerce-armed-forces-committee-meeting-del-magofna-cnmi-sbdc-representative/2027-01-21/
CATEGORIES:Vendor Opportunities,Events & Outreach,Saipan
END:VEVENT
BEGIN:VEVENT
DTSTART;TZID=Pacific/Saipan:20270203T110000
DTEND;TZID=Pacific/Saipan:20270203T133000
DTSTAMP:20260423T084500
CREATED:20240202T033419Z
LAST-MODIFIED:20240320T040550Z
UID:10000056-1801652400-1801661400@www.cnmisbdc.com
SUMMARY:Saipan Chamber of Commerce General Membership Meeting
DESCRIPTION:
URL:https://www.cnmisbdc.com/event/saipan-chamber-of-commerce-general-membership-meeting/2027-02-03/
CATEGORIES:Vendor Opportunities,Events & Outreach,Saipan
END:VEVENT
BEGIN:VEVENT
DTSTART;VALUE=DATE:20270218
DTEND;VALUE=DATE:20270219
DTSTAMP:20260423T084500
CREATED:20240202T033506Z
LAST-MODIFIED:20240320T040549Z
UID:10000176-1802908800-1802995199@www.cnmisbdc.com
SUMMARY:Saipan Chamber of Commerce Armed Forces Committee Meeting
DESCRIPTION:
URL:https://www.cnmisbdc.com/event/saipan-chamber-of-commerce-armed-forces-committee-meeting-del-magofna-cnmi-sbdc-representative/2027-02-18/
CATEGORIES:Vendor Opportunities,Events & Outreach,Saipan
END:VEVENT
BEGIN:VEVENT
DTSTART;TZID=Pacific/Saipan:20270303T110000
DTEND;TZID=Pacific/Saipan:20270303T133000
DTSTAMP:20260423T084500
CREATED:20240202T033419Z
LAST-MODIFIED:20240320T040550Z
UID:10000057-1804071600-1804080600@www.cnmisbdc.com
SUMMARY:Saipan Chamber of Commerce General Membership Meeting
DESCRIPTION:
URL:https://www.cnmisbdc.com/event/saipan-chamber-of-commerce-general-membership-meeting/2027-03-03/
CATEGORIES:Vendor Opportunities,Events & Outreach,Saipan
END:VEVENT
BEGIN:VEVENT
DTSTART;VALUE=DATE:20270318
DTEND;VALUE=DATE:20270319
DTSTAMP:20260423T084500
CREATED:20240202T033506Z
LAST-MODIFIED:20240320T040549Z
UID:10000177-1805328000-1805414399@www.cnmisbdc.com
SUMMARY:Saipan Chamber of Commerce Armed Forces Committee Meeting
DESCRIPTION:
URL:https://www.cnmisbdc.com/event/saipan-chamber-of-commerce-armed-forces-committee-meeting-del-magofna-cnmi-sbdc-representative/2027-03-18/
CATEGORIES:Vendor Opportunities,Events & Outreach,Saipan
END:VEVENT
BEGIN:VEVENT
DTSTART;TZID=Pacific/Saipan:20270407T110000
DTEND;TZID=Pacific/Saipan:20270407T133000
DTSTAMP:20260423T084500
CREATED:20240202T033419Z
LAST-MODIFIED:20240320T040550Z
UID:10000058-1807095600-1807104600@www.cnmisbdc.com
SUMMARY:Saipan Chamber of Commerce General Membership Meeting
DESCRIPTION:
URL:https://www.cnmisbdc.com/event/saipan-chamber-of-commerce-general-membership-meeting/2027-04-07/
CATEGORIES:Vendor Opportunities,Events & Outreach,Saipan
END:VEVENT
BEGIN:VEVENT
DTSTART;VALUE=DATE:20270415
DTEND;VALUE=DATE:20270416
DTSTAMP:20260423T084500
CREATED:20240202T033506Z
LAST-MODIFIED:20240320T040549Z
UID:10000178-1807747200-1807833599@www.cnmisbdc.com
SUMMARY:Saipan Chamber of Commerce Armed Forces Committee Meeting
DESCRIPTION:
URL:https://www.cnmisbdc.com/event/saipan-chamber-of-commerce-armed-forces-committee-meeting-del-magofna-cnmi-sbdc-representative/2027-04-15/
CATEGORIES:Vendor Opportunities,Events & Outreach,Saipan
END:VEVENT
BEGIN:VEVENT
DTSTART;TZID=Pacific/Saipan:20270505T110000
DTEND;TZID=Pacific/Saipan:20270505T133000
DTSTAMP:20260423T084500
CREATED:20240202T033419Z
LAST-MODIFIED:20240320T040550Z
UID:10000059-1809514800-1809523800@www.cnmisbdc.com
SUMMARY:Saipan Chamber of Commerce General Membership Meeting
DESCRIPTION:
URL:https://www.cnmisbdc.com/event/saipan-chamber-of-commerce-general-membership-meeting/2027-05-05/
CATEGORIES:Vendor Opportunities,Events & Outreach,Saipan
END:VEVENT
BEGIN:VEVENT
DTSTART;VALUE=DATE:20270520
DTEND;VALUE=DATE:20270521
DTSTAMP:20260423T084500
CREATED:20240202T033506Z
LAST-MODIFIED:20240320T040549Z
UID:10000179-1810771200-1810857599@www.cnmisbdc.com
SUMMARY:Saipan Chamber of Commerce Armed Forces Committee Meeting
DESCRIPTION:
URL:https://www.cnmisbdc.com/event/saipan-chamber-of-commerce-armed-forces-committee-meeting-del-magofna-cnmi-sbdc-representative/2027-05-20/
CATEGORIES:Vendor Opportunities,Events & Outreach,Saipan
END:VEVENT
BEGIN:VEVENT
DTSTART;TZID=Pacific/Saipan:20270602T110000
DTEND;TZID=Pacific/Saipan:20270602T133000
DTSTAMP:20260423T084500
CREATED:20240202T033419Z
LAST-MODIFIED:20240320T040550Z
UID:10000060-1811934000-1811943000@www.cnmisbdc.com
SUMMARY:Saipan Chamber of Commerce General Membership Meeting
DESCRIPTION:
URL:https://www.cnmisbdc.com/event/saipan-chamber-of-commerce-general-membership-meeting/2027-06-02/
CATEGORIES:Vendor Opportunities,Events & Outreach,Saipan
END:VEVENT
BEGIN:VEVENT
DTSTART;VALUE=DATE:20270617
DTEND;VALUE=DATE:20270618
DTSTAMP:20260423T084500
CREATED:20240202T033506Z
LAST-MODIFIED:20240320T040549Z
UID:10000180-1813190400-1813276799@www.cnmisbdc.com
SUMMARY:Saipan Chamber of Commerce Armed Forces Committee Meeting
DESCRIPTION:
URL:https://www.cnmisbdc.com/event/saipan-chamber-of-commerce-armed-forces-committee-meeting-del-magofna-cnmi-sbdc-representative/2027-06-17/
CATEGORIES:Vendor Opportunities,Events & Outreach,Saipan
END:VEVENT
BEGIN:VEVENT
DTSTART;TZID=Pacific/Saipan:20270707T110000
DTEND;TZID=Pacific/Saipan:20270707T133000
DTSTAMP:20260423T084500
CREATED:20240202T033419Z
LAST-MODIFIED:20240320T040550Z
UID:10000061-1814958000-1814967000@www.cnmisbdc.com
SUMMARY:Saipan Chamber of Commerce General Membership Meeting
DESCRIPTION:
URL:https://www.cnmisbdc.com/event/saipan-chamber-of-commerce-general-membership-meeting/2027-07-07/
CATEGORIES:Vendor Opportunities,Events & Outreach,Saipan
END:VEVENT
BEGIN:VEVENT
DTSTART;VALUE=DATE:20270715
DTEND;VALUE=DATE:20270716
DTSTAMP:20260423T084500
CREATED:20240202T033506Z
LAST-MODIFIED:20240320T040549Z
UID:10000181-1815609600-1815695999@www.cnmisbdc.com
SUMMARY:Saipan Chamber of Commerce Armed Forces Committee Meeting
DESCRIPTION:
URL:https://www.cnmisbdc.com/event/saipan-chamber-of-commerce-armed-forces-committee-meeting-del-magofna-cnmi-sbdc-representative/2027-07-15/
CATEGORIES:Vendor Opportunities,Events & Outreach,Saipan
END:VEVENT
BEGIN:VEVENT
DTSTART;TZID=Pacific/Saipan:20270804T110000
DTEND;TZID=Pacific/Saipan:20270804T133000
DTSTAMP:20260423T084500
CREATED:20240202T033419Z
LAST-MODIFIED:20240320T040550Z
UID:10000062-1817377200-1817386200@www.cnmisbdc.com
SUMMARY:Saipan Chamber of Commerce General Membership Meeting
DESCRIPTION:
URL:https://www.cnmisbdc.com/event/saipan-chamber-of-commerce-general-membership-meeting/2027-08-04/
CATEGORIES:Vendor Opportunities,Events & Outreach,Saipan
END:VEVENT
BEGIN:VEVENT
DTSTART;VALUE=DATE:20270819
DTEND;VALUE=DATE:20270820
DTSTAMP:20260423T084500
CREATED:20240202T033506Z
LAST-MODIFIED:20240320T040549Z
UID:10000182-1818633600-1818719999@www.cnmisbdc.com
SUMMARY:Saipan Chamber of Commerce Armed Forces Committee Meeting
DESCRIPTION:
URL:https://www.cnmisbdc.com/event/saipan-chamber-of-commerce-armed-forces-committee-meeting-del-magofna-cnmi-sbdc-representative/2027-08-19/
CATEGORIES:Vendor Opportunities,Events & Outreach,Saipan
END:VEVENT
BEGIN:VEVENT
DTSTART;TZID=Pacific/Saipan:20270901T110000
DTEND;TZID=Pacific/Saipan:20270901T133000
DTSTAMP:20260423T084500
CREATED:20240202T033419Z
LAST-MODIFIED:20240320T040550Z
UID:10000063-1819796400-1819805400@www.cnmisbdc.com
SUMMARY:Saipan Chamber of Commerce General Membership Meeting
DESCRIPTION:
URL:https://www.cnmisbdc.com/event/saipan-chamber-of-commerce-general-membership-meeting/2027-09-01/
CATEGORIES:Vendor Opportunities,Events & Outreach,Saipan
END:VEVENT
BEGIN:VEVENT
DTSTART;VALUE=DATE:20270916
DTEND;VALUE=DATE:20270917
DTSTAMP:20260423T084500
CREATED:20240202T033506Z
LAST-MODIFIED:20240320T040549Z
UID:10000183-1821052800-1821139199@www.cnmisbdc.com
SUMMARY:Saipan Chamber of Commerce Armed Forces Committee Meeting
DESCRIPTION:
URL:https://www.cnmisbdc.com/event/saipan-chamber-of-commerce-armed-forces-committee-meeting-del-magofna-cnmi-sbdc-representative/2027-09-16/
CATEGORIES:Vendor Opportunities,Events & Outreach,Saipan
END:VEVENT
END:VCALENDAR