BEGIN:VCALENDAR
VERSION:2.0
PRODID:-//CNMI Small Business Development Center Network (SBDC) - ECPv6.15.20//NONSGML v1.0//EN
CALSCALE:GREGORIAN
METHOD:PUBLISH
X-ORIGINAL-URL:https://www.cnmisbdc.com
X-WR-CALDESC:Events for CNMI Small Business Development Center Network (SBDC)
REFRESH-INTERVAL;VALUE=DURATION:PT1H
X-Robots-Tag:noindex
X-PUBLISHED-TTL:PT1H
BEGIN:VTIMEZONE
TZID:Pacific/Saipan
BEGIN:STANDARD
TZOFFSETFROM:+1000
TZOFFSETTO:+1000
TZNAME:ChST
DTSTART:20240101T000000
END:STANDARD
END:VTIMEZONE
BEGIN:VEVENT
DTSTART;TZID=Pacific/Saipan:20251203T110000
DTEND;TZID=Pacific/Saipan:20251203T133000
DTSTAMP:20260423T083327
CREATED:20240202T033419Z
LAST-MODIFIED:20240320T040550Z
UID:10000042-1764759600-1764768600@www.cnmisbdc.com
SUMMARY:Saipan Chamber of Commerce General Membership Meeting
DESCRIPTION:
URL:https://www.cnmisbdc.com/event/saipan-chamber-of-commerce-general-membership-meeting/2025-12-03/
CATEGORIES:Vendor Opportunities,Events & Outreach,Saipan
END:VEVENT
BEGIN:VEVENT
DTSTART;TZID=Pacific/Saipan:20251208T080000
DTEND;TZID=Pacific/Saipan:20251208T170000
DTSTAMP:20260423T083327
CREATED:20250219T044116Z
LAST-MODIFIED:20250219T044116Z
UID:10000630-1765180800-1765213200@www.cnmisbdc.com
SUMMARY:Constitution Day
DESCRIPTION:
URL:https://www.cnmisbdc.com/event/constitution-day/
CATEGORIES:Events & Outreach
END:VEVENT
BEGIN:VEVENT
DTSTART;VALUE=DATE:20251218
DTEND;VALUE=DATE:20251219
DTSTAMP:20260423T083327
CREATED:20240202T033506Z
LAST-MODIFIED:20240320T040549Z
UID:10000162-1766016000-1766102399@www.cnmisbdc.com
SUMMARY:Saipan Chamber of Commerce Armed Forces Committee Meeting
DESCRIPTION:
URL:https://www.cnmisbdc.com/event/saipan-chamber-of-commerce-armed-forces-committee-meeting-del-magofna-cnmi-sbdc-representative/2025-12-18/
CATEGORIES:Vendor Opportunities,Events & Outreach,Saipan
END:VEVENT
BEGIN:VEVENT
DTSTART;TZID=Pacific/Saipan:20251225T080000
DTEND;TZID=Pacific/Saipan:20251225T170000
DTSTAMP:20260423T083327
CREATED:20250219T044141Z
LAST-MODIFIED:20250519T060900Z
UID:10000631-1766649600-1766682000@www.cnmisbdc.com
SUMMARY:Christmas Day
DESCRIPTION:
URL:https://www.cnmisbdc.com/event/christmas-day/
CATEGORIES:Community,Events & Outreach
END:VEVENT
BEGIN:VEVENT
DTSTART;TZID=Pacific/Saipan:20260107T110000
DTEND;TZID=Pacific/Saipan:20260107T133000
DTSTAMP:20260423T083327
CREATED:20240202T033419Z
LAST-MODIFIED:20240320T040550Z
UID:10000043-1767783600-1767792600@www.cnmisbdc.com
SUMMARY:Saipan Chamber of Commerce General Membership Meeting
DESCRIPTION:
URL:https://www.cnmisbdc.com/event/saipan-chamber-of-commerce-general-membership-meeting/2026-01-07/
CATEGORIES:Vendor Opportunities,Events & Outreach,Saipan
END:VEVENT
BEGIN:VEVENT
DTSTART;VALUE=DATE:20260115
DTEND;VALUE=DATE:20260116
DTSTAMP:20260423T083327
CREATED:20240202T033506Z
LAST-MODIFIED:20240320T040549Z
UID:10000163-1768435200-1768521599@www.cnmisbdc.com
SUMMARY:Saipan Chamber of Commerce Armed Forces Committee Meeting
DESCRIPTION:
URL:https://www.cnmisbdc.com/event/saipan-chamber-of-commerce-armed-forces-committee-meeting-del-magofna-cnmi-sbdc-representative/2026-01-15/
CATEGORIES:Vendor Opportunities,Events & Outreach,Saipan
END:VEVENT
BEGIN:VEVENT
DTSTART;TZID=Pacific/Saipan:20260204T110000
DTEND;TZID=Pacific/Saipan:20260204T133000
DTSTAMP:20260423T083327
CREATED:20240202T033419Z
LAST-MODIFIED:20240320T040550Z
UID:10000044-1770202800-1770211800@www.cnmisbdc.com
SUMMARY:Saipan Chamber of Commerce General Membership Meeting
DESCRIPTION:
URL:https://www.cnmisbdc.com/event/saipan-chamber-of-commerce-general-membership-meeting/2026-02-04/
CATEGORIES:Vendor Opportunities,Events & Outreach,Saipan
END:VEVENT
BEGIN:VEVENT
DTSTART;VALUE=DATE:20260219
DTEND;VALUE=DATE:20260220
DTSTAMP:20260423T083327
CREATED:20240202T033506Z
LAST-MODIFIED:20240320T040549Z
UID:10000164-1771459200-1771545599@www.cnmisbdc.com
SUMMARY:Saipan Chamber of Commerce Armed Forces Committee Meeting
DESCRIPTION:
URL:https://www.cnmisbdc.com/event/saipan-chamber-of-commerce-armed-forces-committee-meeting-del-magofna-cnmi-sbdc-representative/2026-02-19/
CATEGORIES:Vendor Opportunities,Events & Outreach,Saipan
END:VEVENT
BEGIN:VEVENT
DTSTART;TZID=Pacific/Saipan:20260304T110000
DTEND;TZID=Pacific/Saipan:20260304T133000
DTSTAMP:20260423T083327
CREATED:20240202T033419Z
LAST-MODIFIED:20240320T040550Z
UID:10000045-1772622000-1772631000@www.cnmisbdc.com
SUMMARY:Saipan Chamber of Commerce General Membership Meeting
DESCRIPTION:
URL:https://www.cnmisbdc.com/event/saipan-chamber-of-commerce-general-membership-meeting/2026-03-04/
CATEGORIES:Vendor Opportunities,Events & Outreach,Saipan
END:VEVENT
BEGIN:VEVENT
DTSTART;VALUE=DATE:20260319
DTEND;VALUE=DATE:20260320
DTSTAMP:20260423T083327
CREATED:20240202T033506Z
LAST-MODIFIED:20240320T040549Z
UID:10000165-1773878400-1773964799@www.cnmisbdc.com
SUMMARY:Saipan Chamber of Commerce Armed Forces Committee Meeting
DESCRIPTION:
URL:https://www.cnmisbdc.com/event/saipan-chamber-of-commerce-armed-forces-committee-meeting-del-magofna-cnmi-sbdc-representative/2026-03-19/
CATEGORIES:Vendor Opportunities,Events & Outreach,Saipan
END:VEVENT
BEGIN:VEVENT
DTSTART;TZID=Pacific/Saipan:20260401T110000
DTEND;TZID=Pacific/Saipan:20260401T133000
DTSTAMP:20260423T083327
CREATED:20240202T033419Z
LAST-MODIFIED:20240320T040550Z
UID:10000046-1775041200-1775050200@www.cnmisbdc.com
SUMMARY:Saipan Chamber of Commerce General Membership Meeting
DESCRIPTION:
URL:https://www.cnmisbdc.com/event/saipan-chamber-of-commerce-general-membership-meeting/2026-04-01/
CATEGORIES:Vendor Opportunities,Events & Outreach,Saipan
END:VEVENT
BEGIN:VEVENT
DTSTART;VALUE=DATE:20260416
DTEND;VALUE=DATE:20260417
DTSTAMP:20260423T083327
CREATED:20240202T033506Z
LAST-MODIFIED:20240320T040549Z
UID:10000166-1776297600-1776383999@www.cnmisbdc.com
SUMMARY:Saipan Chamber of Commerce Armed Forces Committee Meeting
DESCRIPTION:
URL:https://www.cnmisbdc.com/event/saipan-chamber-of-commerce-armed-forces-committee-meeting-del-magofna-cnmi-sbdc-representative/2026-04-16/
CATEGORIES:Vendor Opportunities,Events & Outreach,Saipan
END:VEVENT
BEGIN:VEVENT
DTSTART;TZID=Pacific/Saipan:20260506T110000
DTEND;TZID=Pacific/Saipan:20260506T133000
DTSTAMP:20260423T083327
CREATED:20240202T033419Z
LAST-MODIFIED:20240320T040550Z
UID:10000047-1778065200-1778074200@www.cnmisbdc.com
SUMMARY:Saipan Chamber of Commerce General Membership Meeting
DESCRIPTION:
URL:https://www.cnmisbdc.com/event/saipan-chamber-of-commerce-general-membership-meeting/2026-05-06/
CATEGORIES:Vendor Opportunities,Events & Outreach,Saipan
END:VEVENT
BEGIN:VEVENT
DTSTART;VALUE=DATE:20260521
DTEND;VALUE=DATE:20260522
DTSTAMP:20260423T083327
CREATED:20240202T033506Z
LAST-MODIFIED:20240320T040549Z
UID:10000167-1779321600-1779407999@www.cnmisbdc.com
SUMMARY:Saipan Chamber of Commerce Armed Forces Committee Meeting
DESCRIPTION:
URL:https://www.cnmisbdc.com/event/saipan-chamber-of-commerce-armed-forces-committee-meeting-del-magofna-cnmi-sbdc-representative/2026-05-21/
CATEGORIES:Vendor Opportunities,Events & Outreach,Saipan
END:VEVENT
BEGIN:VEVENT
DTSTART;TZID=Pacific/Saipan:20260603T110000
DTEND;TZID=Pacific/Saipan:20260603T133000
DTSTAMP:20260423T083327
CREATED:20240202T033419Z
LAST-MODIFIED:20240320T040550Z
UID:10000048-1780484400-1780493400@www.cnmisbdc.com
SUMMARY:Saipan Chamber of Commerce General Membership Meeting
DESCRIPTION:
URL:https://www.cnmisbdc.com/event/saipan-chamber-of-commerce-general-membership-meeting/2026-06-03/
CATEGORIES:Vendor Opportunities,Events & Outreach,Saipan
END:VEVENT
BEGIN:VEVENT
DTSTART;VALUE=DATE:20260618
DTEND;VALUE=DATE:20260619
DTSTAMP:20260423T083327
CREATED:20240202T033506Z
LAST-MODIFIED:20240320T040549Z
UID:10000168-1781740800-1781827199@www.cnmisbdc.com
SUMMARY:Saipan Chamber of Commerce Armed Forces Committee Meeting
DESCRIPTION:
URL:https://www.cnmisbdc.com/event/saipan-chamber-of-commerce-armed-forces-committee-meeting-del-magofna-cnmi-sbdc-representative/2026-06-18/
CATEGORIES:Vendor Opportunities,Events & Outreach,Saipan
END:VEVENT
BEGIN:VEVENT
DTSTART;TZID=Pacific/Saipan:20260701T110000
DTEND;TZID=Pacific/Saipan:20260701T133000
DTSTAMP:20260423T083327
CREATED:20240202T033419Z
LAST-MODIFIED:20240320T040550Z
UID:10000049-1782903600-1782912600@www.cnmisbdc.com
SUMMARY:Saipan Chamber of Commerce General Membership Meeting
DESCRIPTION:
URL:https://www.cnmisbdc.com/event/saipan-chamber-of-commerce-general-membership-meeting/2026-07-01/
CATEGORIES:Vendor Opportunities,Events & Outreach,Saipan
END:VEVENT
BEGIN:VEVENT
DTSTART;VALUE=DATE:20260716
DTEND;VALUE=DATE:20260717
DTSTAMP:20260423T083327
CREATED:20240202T033506Z
LAST-MODIFIED:20240320T040549Z
UID:10000169-1784160000-1784246399@www.cnmisbdc.com
SUMMARY:Saipan Chamber of Commerce Armed Forces Committee Meeting
DESCRIPTION:
URL:https://www.cnmisbdc.com/event/saipan-chamber-of-commerce-armed-forces-committee-meeting-del-magofna-cnmi-sbdc-representative/2026-07-16/
CATEGORIES:Vendor Opportunities,Events & Outreach,Saipan
END:VEVENT
BEGIN:VEVENT
DTSTART;TZID=Pacific/Saipan:20260805T110000
DTEND;TZID=Pacific/Saipan:20260805T133000
DTSTAMP:20260423T083327
CREATED:20240202T033419Z
LAST-MODIFIED:20240320T040550Z
UID:10000050-1785927600-1785936600@www.cnmisbdc.com
SUMMARY:Saipan Chamber of Commerce General Membership Meeting
DESCRIPTION:
URL:https://www.cnmisbdc.com/event/saipan-chamber-of-commerce-general-membership-meeting/2026-08-05/
CATEGORIES:Vendor Opportunities,Events & Outreach,Saipan
END:VEVENT
BEGIN:VEVENT
DTSTART;VALUE=DATE:20260820
DTEND;VALUE=DATE:20260821
DTSTAMP:20260423T083327
CREATED:20240202T033506Z
LAST-MODIFIED:20240320T040549Z
UID:10000170-1787184000-1787270399@www.cnmisbdc.com
SUMMARY:Saipan Chamber of Commerce Armed Forces Committee Meeting
DESCRIPTION:
URL:https://www.cnmisbdc.com/event/saipan-chamber-of-commerce-armed-forces-committee-meeting-del-magofna-cnmi-sbdc-representative/2026-08-20/
CATEGORIES:Vendor Opportunities,Events & Outreach,Saipan
END:VEVENT
BEGIN:VEVENT
DTSTART;TZID=Pacific/Saipan:20260902T110000
DTEND;TZID=Pacific/Saipan:20260902T133000
DTSTAMP:20260423T083327
CREATED:20240202T033419Z
LAST-MODIFIED:20240320T040550Z
UID:10000051-1788346800-1788355800@www.cnmisbdc.com
SUMMARY:Saipan Chamber of Commerce General Membership Meeting
DESCRIPTION:
URL:https://www.cnmisbdc.com/event/saipan-chamber-of-commerce-general-membership-meeting/2026-09-02/
CATEGORIES:Vendor Opportunities,Events & Outreach,Saipan
END:VEVENT
BEGIN:VEVENT
DTSTART;VALUE=DATE:20260917
DTEND;VALUE=DATE:20260918
DTSTAMP:20260423T083327
CREATED:20240202T033506Z
LAST-MODIFIED:20240320T040549Z
UID:10000171-1789603200-1789689599@www.cnmisbdc.com
SUMMARY:Saipan Chamber of Commerce Armed Forces Committee Meeting
DESCRIPTION:
URL:https://www.cnmisbdc.com/event/saipan-chamber-of-commerce-armed-forces-committee-meeting-del-magofna-cnmi-sbdc-representative/2026-09-17/
CATEGORIES:Vendor Opportunities,Events & Outreach,Saipan
END:VEVENT
BEGIN:VEVENT
DTSTART;TZID=Pacific/Saipan:20261007T110000
DTEND;TZID=Pacific/Saipan:20261007T133000
DTSTAMP:20260423T083327
CREATED:20240202T033419Z
LAST-MODIFIED:20240320T040550Z
UID:10000052-1791370800-1791379800@www.cnmisbdc.com
SUMMARY:Saipan Chamber of Commerce General Membership Meeting
DESCRIPTION:
URL:https://www.cnmisbdc.com/event/saipan-chamber-of-commerce-general-membership-meeting/2026-10-07/
CATEGORIES:Vendor Opportunities,Events & Outreach,Saipan
END:VEVENT
BEGIN:VEVENT
DTSTART;VALUE=DATE:20261015
DTEND;VALUE=DATE:20261016
DTSTAMP:20260423T083327
CREATED:20240202T033506Z
LAST-MODIFIED:20240320T040549Z
UID:10000172-1792022400-1792108799@www.cnmisbdc.com
SUMMARY:Saipan Chamber of Commerce Armed Forces Committee Meeting
DESCRIPTION:
URL:https://www.cnmisbdc.com/event/saipan-chamber-of-commerce-armed-forces-committee-meeting-del-magofna-cnmi-sbdc-representative/2026-10-15/
CATEGORIES:Vendor Opportunities,Events & Outreach,Saipan
END:VEVENT
BEGIN:VEVENT
DTSTART;TZID=Pacific/Saipan:20261104T110000
DTEND;TZID=Pacific/Saipan:20261104T133000
DTSTAMP:20260423T083327
CREATED:20240202T033419Z
LAST-MODIFIED:20240320T040550Z
UID:10000053-1793790000-1793799000@www.cnmisbdc.com
SUMMARY:Saipan Chamber of Commerce General Membership Meeting
DESCRIPTION:
URL:https://www.cnmisbdc.com/event/saipan-chamber-of-commerce-general-membership-meeting/2026-11-04/
CATEGORIES:Vendor Opportunities,Events & Outreach,Saipan
END:VEVENT
BEGIN:VEVENT
DTSTART;VALUE=DATE:20261119
DTEND;VALUE=DATE:20261120
DTSTAMP:20260423T083327
CREATED:20240202T033506Z
LAST-MODIFIED:20240320T040549Z
UID:10000173-1795046400-1795132799@www.cnmisbdc.com
SUMMARY:Saipan Chamber of Commerce Armed Forces Committee Meeting
DESCRIPTION:
URL:https://www.cnmisbdc.com/event/saipan-chamber-of-commerce-armed-forces-committee-meeting-del-magofna-cnmi-sbdc-representative/2026-11-19/
CATEGORIES:Vendor Opportunities,Events & Outreach,Saipan
END:VEVENT
BEGIN:VEVENT
DTSTART;TZID=Pacific/Saipan:20261202T110000
DTEND;TZID=Pacific/Saipan:20261202T133000
DTSTAMP:20260423T083327
CREATED:20240202T033419Z
LAST-MODIFIED:20240320T040550Z
UID:10000054-1796209200-1796218200@www.cnmisbdc.com
SUMMARY:Saipan Chamber of Commerce General Membership Meeting
DESCRIPTION:
URL:https://www.cnmisbdc.com/event/saipan-chamber-of-commerce-general-membership-meeting/2026-12-02/
CATEGORIES:Vendor Opportunities,Events & Outreach,Saipan
END:VEVENT
BEGIN:VEVENT
DTSTART;VALUE=DATE:20261217
DTEND;VALUE=DATE:20261218
DTSTAMP:20260423T083327
CREATED:20240202T033506Z
LAST-MODIFIED:20240320T040549Z
UID:10000174-1797465600-1797551999@www.cnmisbdc.com
SUMMARY:Saipan Chamber of Commerce Armed Forces Committee Meeting
DESCRIPTION:
URL:https://www.cnmisbdc.com/event/saipan-chamber-of-commerce-armed-forces-committee-meeting-del-magofna-cnmi-sbdc-representative/2026-12-17/
CATEGORIES:Vendor Opportunities,Events & Outreach,Saipan
END:VEVENT
BEGIN:VEVENT
DTSTART;TZID=Pacific/Saipan:20270106T110000
DTEND;TZID=Pacific/Saipan:20270106T133000
DTSTAMP:20260423T083327
CREATED:20240202T033419Z
LAST-MODIFIED:20240320T040550Z
UID:10000055-1799233200-1799242200@www.cnmisbdc.com
SUMMARY:Saipan Chamber of Commerce General Membership Meeting
DESCRIPTION:
URL:https://www.cnmisbdc.com/event/saipan-chamber-of-commerce-general-membership-meeting/2027-01-06/
CATEGORIES:Vendor Opportunities,Events & Outreach,Saipan
END:VEVENT
BEGIN:VEVENT
DTSTART;VALUE=DATE:20270121
DTEND;VALUE=DATE:20270122
DTSTAMP:20260423T083327
CREATED:20240202T033506Z
LAST-MODIFIED:20240320T040549Z
UID:10000175-1800489600-1800575999@www.cnmisbdc.com
SUMMARY:Saipan Chamber of Commerce Armed Forces Committee Meeting
DESCRIPTION:
URL:https://www.cnmisbdc.com/event/saipan-chamber-of-commerce-armed-forces-committee-meeting-del-magofna-cnmi-sbdc-representative/2027-01-21/
CATEGORIES:Vendor Opportunities,Events & Outreach,Saipan
END:VEVENT
END:VCALENDAR