BEGIN:VCALENDAR
VERSION:2.0
PRODID:-//CNMI Small Business Development Center Network (SBDC) - ECPv6.15.20//NONSGML v1.0//EN
CALSCALE:GREGORIAN
METHOD:PUBLISH
X-ORIGINAL-URL:https://www.cnmisbdc.com
X-WR-CALDESC:Events for CNMI Small Business Development Center Network (SBDC)
REFRESH-INTERVAL;VALUE=DURATION:PT1H
X-Robots-Tag:noindex
X-PUBLISHED-TTL:PT1H
BEGIN:VTIMEZONE
TZID:Pacific/Saipan
BEGIN:STANDARD
TZOFFSETFROM:+1000
TZOFFSETTO:+1000
TZNAME:ChST
DTSTART:20230101T000000
END:STANDARD
END:VTIMEZONE
BEGIN:VEVENT
DTSTART;VALUE=DATE:20241015
DTEND;VALUE=DATE:20241019
DTSTAMP:20260423T150525
CREATED:20240206T232605Z
LAST-MODIFIED:20240322T012052Z
UID:10000216-1728950400-1729295999@www.cnmisbdc.com
SUMMARY:Women's Entrepreneurship Project Cohort 4 Training Sessions
DESCRIPTION:Women’s Entrepreneurship Project Cohort 4 Training Sessions
URL:https://www.cnmisbdc.com/event/womens-entrepreneurship-project-cohort-4-training-sessions/
CATEGORIES:Vendor Opportunities,Events & Outreach,Saipan
END:VEVENT
BEGIN:VEVENT
DTSTART;VALUE=DATE:20241014
DTEND;VALUE=DATE:20241015
DTSTAMP:20260423T150525
CREATED:20240206T232538Z
LAST-MODIFIED:20240322T002947Z
UID:10000215-1728864000-1728950399@www.cnmisbdc.com
SUMMARY:HOLIDAY: Cultural Day
DESCRIPTION:HOLIDAY: Cultural Day
URL:https://www.cnmisbdc.com/event/holiday-cultural-day/
CATEGORIES:Vendor Opportunities,Events & Outreach,Saipan,Tinian,Rota
END:VEVENT
BEGIN:VEVENT
DTSTART;TZID=Pacific/Saipan:20241002T110000
DTEND;TZID=Pacific/Saipan:20241002T133000
DTSTAMP:20260423T150525
CREATED:20240202T033419Z
LAST-MODIFIED:20240320T040550Z
UID:10000028-1727866800-1727875800@www.cnmisbdc.com
SUMMARY:Saipan Chamber of Commerce General Membership Meeting
DESCRIPTION:
URL:https://www.cnmisbdc.com/event/saipan-chamber-of-commerce-general-membership-meeting/2024-10-02/
CATEGORIES:Vendor Opportunities,Events & Outreach,Saipan
END:VEVENT
BEGIN:VEVENT
DTSTART;VALUE=DATE:20240919
DTEND;VALUE=DATE:20240920
DTSTAMP:20260423T150525
CREATED:20240202T033506Z
LAST-MODIFIED:20240320T040549Z
UID:10000147-1726704000-1726790399@www.cnmisbdc.com
SUMMARY:Saipan Chamber of Commerce Armed Forces Committee Meeting
DESCRIPTION:
URL:https://www.cnmisbdc.com/event/saipan-chamber-of-commerce-armed-forces-committee-meeting-del-magofna-cnmi-sbdc-representative/2024-09-19/
CATEGORIES:Vendor Opportunities,Events & Outreach,Saipan
END:VEVENT
BEGIN:VEVENT
DTSTART;VALUE=DATE:20240909
DTEND;VALUE=DATE:20240914
DTSTAMP:20260423T150525
CREATED:20240206T232514Z
LAST-MODIFIED:20240322T012052Z
UID:10000214-1725840000-1726271999@www.cnmisbdc.com
SUMMARY:46th Annual ASBDC Conference
DESCRIPTION:46th Annual ASBDC Conference
URL:https://www.cnmisbdc.com/event/46th-annual-asbdc-conference/
CATEGORIES:Vendor Opportunities,Events & Outreach,Saipan
END:VEVENT
BEGIN:VEVENT
DTSTART;TZID=Pacific/Saipan:20240904T110000
DTEND;TZID=Pacific/Saipan:20240904T133000
DTSTAMP:20260423T150525
CREATED:20240202T033419Z
LAST-MODIFIED:20240320T040550Z
UID:10000027-1725447600-1725456600@www.cnmisbdc.com
SUMMARY:Saipan Chamber of Commerce General Membership Meeting
DESCRIPTION:
URL:https://www.cnmisbdc.com/event/saipan-chamber-of-commerce-general-membership-meeting/2024-09-04/
CATEGORIES:Vendor Opportunities,Events & Outreach,Saipan
END:VEVENT
BEGIN:VEVENT
DTSTART;VALUE=DATE:20240902
DTEND;VALUE=DATE:20240903
DTSTAMP:20260423T150525
CREATED:20240206T232437Z
LAST-MODIFIED:20240322T002947Z
UID:10000213-1725235200-1725321599@www.cnmisbdc.com
SUMMARY:HOLIDAY: Labor Day
DESCRIPTION:
URL:https://www.cnmisbdc.com/event/holiday-labor-day/
CATEGORIES:Vendor Opportunities,Events & Outreach,Saipan,Tinian,Rota
END:VEVENT
BEGIN:VEVENT
DTSTART;VALUE=DATE:20240815
DTEND;VALUE=DATE:20240816
DTSTAMP:20260423T150525
CREATED:20240202T033506Z
LAST-MODIFIED:20240320T040549Z
UID:10000146-1723680000-1723766399@www.cnmisbdc.com
SUMMARY:Saipan Chamber of Commerce Armed Forces Committee Meeting
DESCRIPTION:
URL:https://www.cnmisbdc.com/event/saipan-chamber-of-commerce-armed-forces-committee-meeting-del-magofna-cnmi-sbdc-representative/2024-08-15/
CATEGORIES:Vendor Opportunities,Events & Outreach,Saipan
END:VEVENT
BEGIN:VEVENT
DTSTART;TZID=Pacific/Saipan:20240807T110000
DTEND;TZID=Pacific/Saipan:20240807T133000
DTSTAMP:20260423T150525
CREATED:20240202T033419Z
LAST-MODIFIED:20240320T040550Z
UID:10000026-1723028400-1723037400@www.cnmisbdc.com
SUMMARY:Saipan Chamber of Commerce General Membership Meeting
DESCRIPTION:
URL:https://www.cnmisbdc.com/event/saipan-chamber-of-commerce-general-membership-meeting/2024-08-07/
CATEGORIES:Vendor Opportunities,Events & Outreach,Saipan
END:VEVENT
BEGIN:VEVENT
DTSTART;VALUE=DATE:20240726
DTEND;VALUE=DATE:20240727
DTSTAMP:20260423T150525
CREATED:20240206T232407Z
LAST-MODIFIED:20240322T012053Z
UID:10000212-1721952000-1722038399@www.cnmisbdc.com
SUMMARY:Christmas in July
DESCRIPTION:
URL:https://www.cnmisbdc.com/event/christmas-in-july/
CATEGORIES:Vendor Opportunities,Events & Outreach,Saipan
END:VEVENT
BEGIN:VEVENT
DTSTART;TZID=Pacific/Saipan:20240725T080000
DTEND;TZID=Pacific/Saipan:20240725T170000
DTSTAMP:20260423T150525
CREATED:20240206T232348Z
LAST-MODIFIED:20240320T031356Z
UID:10000211-1721894400-1721926800@www.cnmisbdc.com
SUMMARY:Christmas in July (Tinian)
DESCRIPTION:Christmas in July (Tinian)
URL:https://www.cnmisbdc.com/event/christmas-in-july-tinian/
CATEGORIES:Vendor Opportunities,Events & Outreach,Tinian
END:VEVENT
BEGIN:VEVENT
DTSTART;VALUE=DATE:20240718
DTEND;VALUE=DATE:20240719
DTSTAMP:20260423T150525
CREATED:20240202T033506Z
LAST-MODIFIED:20240320T040549Z
UID:10000145-1721260800-1721347199@www.cnmisbdc.com
SUMMARY:Saipan Chamber of Commerce Armed Forces Committee Meeting
DESCRIPTION:
URL:https://www.cnmisbdc.com/event/saipan-chamber-of-commerce-armed-forces-committee-meeting-del-magofna-cnmi-sbdc-representative/2024-07-18/
CATEGORIES:Vendor Opportunities,Events & Outreach,Saipan
END:VEVENT
BEGIN:VEVENT
DTSTART;VALUE=DATE:20240704
DTEND;VALUE=DATE:20240705
DTSTAMP:20260423T150525
CREATED:20240206T232318Z
LAST-MODIFIED:20240322T002947Z
UID:10000210-1720051200-1720137599@www.cnmisbdc.com
SUMMARY:HOLIDAY: Fourth of July
DESCRIPTION:HOLIDAY: Fourth of July
URL:https://www.cnmisbdc.com/event/holiday-fourth-of-july/
CATEGORIES:Vendor Opportunities,Events & Outreach,Saipan,Tinian,Rota
END:VEVENT
BEGIN:VEVENT
DTSTART;TZID=Pacific/Saipan:20240703T110000
DTEND;TZID=Pacific/Saipan:20240703T133000
DTSTAMP:20260423T150525
CREATED:20240202T033419Z
LAST-MODIFIED:20240320T040550Z
UID:10000025-1720004400-1720013400@www.cnmisbdc.com
SUMMARY:Saipan Chamber of Commerce General Membership Meeting
DESCRIPTION:
URL:https://www.cnmisbdc.com/event/saipan-chamber-of-commerce-general-membership-meeting/2024-07-03/
CATEGORIES:Vendor Opportunities,Events & Outreach,Saipan
END:VEVENT
BEGIN:VEVENT
DTSTART;VALUE=DATE:20240627
DTEND;VALUE=DATE:20240629
DTSTAMP:20260423T150525
CREATED:20240228T054340Z
LAST-MODIFIED:20240322T012053Z
UID:10000599-1719446400-1719619199@www.cnmisbdc.com
SUMMARY:Industry Day w/ PACAF
DESCRIPTION:
URL:https://www.cnmisbdc.com/event/industry-day-w-pacaf/2024-06-27/
CATEGORIES:Vendor Opportunities,Events & Outreach,Saipan
END:VEVENT
BEGIN:VEVENT
DTSTART;VALUE=DATE:20240620
DTEND;VALUE=DATE:20240621
DTSTAMP:20260423T150525
CREATED:20240202T033506Z
LAST-MODIFIED:20240320T040549Z
UID:10000144-1718841600-1718927999@www.cnmisbdc.com
SUMMARY:Saipan Chamber of Commerce Armed Forces Committee Meeting
DESCRIPTION:
URL:https://www.cnmisbdc.com/event/saipan-chamber-of-commerce-armed-forces-committee-meeting-del-magofna-cnmi-sbdc-representative/2024-06-20/
CATEGORIES:Vendor Opportunities,Events & Outreach,Saipan
END:VEVENT
BEGIN:VEVENT
DTSTART;VALUE=DATE:20240619
DTEND;VALUE=DATE:20240620
DTSTAMP:20260423T150525
CREATED:20240206T232253Z
LAST-MODIFIED:20240322T002948Z
UID:10000209-1718755200-1718841599@www.cnmisbdc.com
SUMMARY:HOLIDAY: Juneteenth
DESCRIPTION:HOLIDAY: Juneteenth
URL:https://www.cnmisbdc.com/event/holiday-juneteenth/
CATEGORIES:Vendor Opportunities,Events & Outreach,Saipan,Tinian,Rota
END:VEVENT
BEGIN:VEVENT
DTSTART;TZID=Pacific/Saipan:20240605T110000
DTEND;TZID=Pacific/Saipan:20240605T133000
DTSTAMP:20260423T150525
CREATED:20240202T033419Z
LAST-MODIFIED:20240320T040550Z
UID:10000024-1717585200-1717594200@www.cnmisbdc.com
SUMMARY:Saipan Chamber of Commerce General Membership Meeting
DESCRIPTION:
URL:https://www.cnmisbdc.com/event/saipan-chamber-of-commerce-general-membership-meeting/2024-06-05/
CATEGORIES:Vendor Opportunities,Events & Outreach,Saipan
END:VEVENT
BEGIN:VEVENT
DTSTART;VALUE=DATE:20240604
DTEND;VALUE=DATE:20240605
DTSTAMP:20260423T150525
CREATED:20240228T054507Z
LAST-MODIFIED:20240322T012053Z
UID:10000228-1717459200-1717545599@www.cnmisbdc.com
SUMMARY:Reboot to Business Training
DESCRIPTION:Reboot to Business Training
URL:https://www.cnmisbdc.com/event/reboot-to-business-training/
CATEGORIES:Vendor Opportunities,Events & Outreach,Saipan
END:VEVENT
BEGIN:VEVENT
DTSTART;VALUE=DATE:20240527
DTEND;VALUE=DATE:20240528
DTSTAMP:20260423T150525
CREATED:20240206T232058Z
LAST-MODIFIED:20240322T002948Z
UID:10000207-1716768000-1716854399@www.cnmisbdc.com
SUMMARY:HOLIDAY: Memorial Day
DESCRIPTION:HOLIDAY: Memorial Day
URL:https://www.cnmisbdc.com/event/holiday-memorial-day/
CATEGORIES:Vendor Opportunities,Events & Outreach,Saipan,Tinian,Rota
END:VEVENT
BEGIN:VEVENT
DTSTART;VALUE=DATE:20240522
DTEND;VALUE=DATE:20240523
DTSTAMP:20260423T150525
CREATED:20240119T052115Z
LAST-MODIFIED:20240320T040550Z
UID:10000017-1716336000-1716422399@www.cnmisbdc.com
SUMMARY:FEDERAL CONTRACTING 101 (SAIPAN) W/ GUAM APEX
DESCRIPTION:
URL:https://www.cnmisbdc.com/event/federal-contracting-101-saipan-w-guam-apex/
CATEGORIES:Vendor Opportunities,Events & Outreach,Saipan
END:VEVENT
BEGIN:VEVENT
DTSTART;VALUE=DATE:20240516
DTEND;VALUE=DATE:20240517
DTSTAMP:20260423T150525
CREATED:20240202T033506Z
LAST-MODIFIED:20240320T040549Z
UID:10000143-1715817600-1715903999@www.cnmisbdc.com
SUMMARY:Saipan Chamber of Commerce Armed Forces Committee Meeting
DESCRIPTION:
URL:https://www.cnmisbdc.com/event/saipan-chamber-of-commerce-armed-forces-committee-meeting-del-magofna-cnmi-sbdc-representative/2024-05-16/
CATEGORIES:Vendor Opportunities,Events & Outreach,Saipan
END:VEVENT
BEGIN:VEVENT
DTSTART;TZID=Pacific/Saipan:20240501T110000
DTEND;TZID=Pacific/Saipan:20240501T133000
DTSTAMP:20260423T150525
CREATED:20240202T033419Z
LAST-MODIFIED:20240320T040550Z
UID:10000023-1714561200-1714570200@www.cnmisbdc.com
SUMMARY:Saipan Chamber of Commerce General Membership Meeting
DESCRIPTION:
URL:https://www.cnmisbdc.com/event/saipan-chamber-of-commerce-general-membership-meeting/2024-05-01/
CATEGORIES:Vendor Opportunities,Events & Outreach,Saipan
END:VEVENT
BEGIN:VEVENT
DTSTART;VALUE=DATE:20240501
DTEND;VALUE=DATE:20240502
DTSTAMP:20260423T150525
CREATED:20240228T054340Z
LAST-MODIFIED:20240322T012053Z
UID:10000598-1714550400-1714582800@www.cnmisbdc.com
SUMMARY:Industry Day w/ PACAF
DESCRIPTION:
URL:https://www.cnmisbdc.com/event/industry-day-w-pacaf/2024-05-01/
CATEGORIES:Vendor Opportunities,Events & Outreach,Saipan
END:VEVENT
BEGIN:VEVENT
DTSTART;VALUE=DATE:20240423
DTEND;VALUE=DATE:20240424
DTSTAMP:20260423T150525
CREATED:20240320T030454Z
LAST-MODIFIED:20240320T031410Z
UID:10000602-1713830400-1713916799@www.cnmisbdc.com
SUMMARY:Developing a Capabilities Statement (Tinian)
DESCRIPTION:
URL:https://www.cnmisbdc.com/event/developing-a-capabilities-statement-tinian/
CATEGORIES:Vendor Opportunities,Events & Outreach,Tinian
END:VEVENT
BEGIN:VEVENT
DTSTART;VALUE=DATE:20240418
DTEND;VALUE=DATE:20240419
DTSTAMP:20260423T150525
CREATED:20240202T033506Z
LAST-MODIFIED:20240320T040549Z
UID:10000142-1713398400-1713484799@www.cnmisbdc.com
SUMMARY:Saipan Chamber of Commerce Armed Forces Committee Meeting
DESCRIPTION:
URL:https://www.cnmisbdc.com/event/saipan-chamber-of-commerce-armed-forces-committee-meeting-del-magofna-cnmi-sbdc-representative/2024-04-18/
CATEGORIES:Vendor Opportunities,Events & Outreach,Saipan
END:VEVENT
BEGIN:VEVENT
DTSTART;VALUE=DATE:20240409
DTEND;VALUE=DATE:20240410
DTSTAMP:20260423T150525
CREATED:20240320T030306Z
LAST-MODIFIED:20240320T031438Z
UID:10000601-1712620800-1712707199@www.cnmisbdc.com
SUMMARY:How To Register on SAM.gov (Tinian)
DESCRIPTION:
URL:https://www.cnmisbdc.com/event/how-to-register-on-sam-gov-tinian/
CATEGORIES:Vendor Opportunities,Events & Outreach,Tinian
END:VEVENT
BEGIN:VEVENT
DTSTART;TZID=Pacific/Saipan:20240403T110000
DTEND;TZID=Pacific/Saipan:20240403T133000
DTSTAMP:20260423T150525
CREATED:20240202T033419Z
LAST-MODIFIED:20240320T040550Z
UID:10000022-1712142000-1712151000@www.cnmisbdc.com
SUMMARY:Saipan Chamber of Commerce General Membership Meeting
DESCRIPTION:
URL:https://www.cnmisbdc.com/event/saipan-chamber-of-commerce-general-membership-meeting/2024-04-03/
CATEGORIES:Vendor Opportunities,Events & Outreach,Saipan
END:VEVENT
BEGIN:VEVENT
DTSTART;VALUE=DATE:20240329
DTEND;VALUE=DATE:20240330
DTSTAMP:20260423T150525
CREATED:20240206T231416Z
LAST-MODIFIED:20240322T002948Z
UID:10000204-1711670400-1711756799@www.cnmisbdc.com
SUMMARY:HOLIDAY: Good Friday
DESCRIPTION:HOLIDAY: Good Friday
URL:https://www.cnmisbdc.com/event/holiday-good-friday/
CATEGORIES:Vendor Opportunities,Events & Outreach,Saipan,Tinian,Rota
END:VEVENT
BEGIN:VEVENT
DTSTART;VALUE=DATE:20240325
DTEND;VALUE=DATE:20240326
DTSTAMP:20260423T150525
CREATED:20240206T231356Z
LAST-MODIFIED:20240322T002949Z
UID:10000203-1711324800-1711411199@www.cnmisbdc.com
SUMMARY:HOLIDAY: Covenant Day
DESCRIPTION:HOLIDAY: Covenant Day
URL:https://www.cnmisbdc.com/event/holiday-covenant-day/
CATEGORIES:Vendor Opportunities,Events & Outreach,Saipan,Tinian,Rota
END:VEVENT
END:VCALENDAR