BEGIN:VCALENDAR
VERSION:2.0
PRODID:-//CNMI Small Business Development Center Network (SBDC) - ECPv6.15.20//NONSGML v1.0//EN
CALSCALE:GREGORIAN
METHOD:PUBLISH
X-WR-CALNAME:CNMI Small Business Development Center Network (SBDC)
X-ORIGINAL-URL:https://www.cnmisbdc.com
X-WR-CALDESC:Events for CNMI Small Business Development Center Network (SBDC)
REFRESH-INTERVAL;VALUE=DURATION:PT1H
X-Robots-Tag:noindex
X-PUBLISHED-TTL:PT1H
BEGIN:VTIMEZONE
TZID:Pacific/Saipan
BEGIN:STANDARD
TZOFFSETFROM:+1000
TZOFFSETTO:+1000
TZNAME:ChST
DTSTART:20240101T000000
END:STANDARD
END:VTIMEZONE
BEGIN:VEVENT
DTSTART;TZID=Pacific/Saipan:20250902T080000
DTEND;TZID=Pacific/Saipan:20250905T170000
DTSTAMP:20260423T211116
CREATED:20250226T005416Z
LAST-MODIFIED:20250226T005439Z
UID:10000644-1756800000-1757091600@www.cnmisbdc.com
SUMMARY:2025 ASBDC CONF.
DESCRIPTION:
URL:https://www.cnmisbdc.com/event/2025-asbdc-conf/
CATEGORIES:Saipan,Tinian,Rota
END:VEVENT
BEGIN:VEVENT
DTSTART;TZID=Pacific/Saipan:20251105T080000
DTEND;TZID=Pacific/Saipan:20251105T170000
DTSTAMP:20260423T211116
CREATED:20250226T005600Z
LAST-MODIFIED:20250226T005600Z
UID:10000645-1762329600-1762362000@www.cnmisbdc.com
SUMMARY:RCC Board Meeting
DESCRIPTION:
URL:https://www.cnmisbdc.com/event/rcc-board-meeting-3/
CATEGORIES:Saipan,Tinian,Rota
END:VEVENT
END:VCALENDAR