BEGIN:VCALENDAR
VERSION:2.0
PRODID:-//CNMI Small Business Development Center Network (SBDC) - ECPv6.15.20//NONSGML v1.0//EN
CALSCALE:GREGORIAN
METHOD:PUBLISH
X-ORIGINAL-URL:https://www.cnmisbdc.com
X-WR-CALDESC:Events for CNMI Small Business Development Center Network (SBDC)
REFRESH-INTERVAL;VALUE=DURATION:PT1H
X-Robots-Tag:noindex
X-PUBLISHED-TTL:PT1H
BEGIN:VTIMEZONE
TZID:Pacific/Saipan
BEGIN:STANDARD
TZOFFSETFROM:+1000
TZOFFSETTO:+1000
TZNAME:ChST
DTSTART:20240101T000000
END:STANDARD
END:VTIMEZONE
BEGIN:VEVENT
DTSTART;TZID=Pacific/Saipan:20250807T080000
DTEND;TZID=Pacific/Saipan:20250807T170000
DTSTAMP:20260423T210938
CREATED:20250226T005218Z
LAST-MODIFIED:20250226T005218Z
UID:10000642-1754553600-1754586000@www.cnmisbdc.com
SUMMARY:NMC Fall PD
DESCRIPTION:
URL:https://www.cnmisbdc.com/event/nmc-fall-pd/
CATEGORIES:Events & Outreach,Saipan,Tinian,Rota
END:VEVENT
BEGIN:VEVENT
DTSTART;TZID=Pacific/Saipan:20250815T080000
DTEND;TZID=Pacific/Saipan:20250815T170000
DTSTAMP:20260423T210938
CREATED:20250226T005259Z
LAST-MODIFIED:20250226T005259Z
UID:10000643-1755244800-1755277200@www.cnmisbdc.com
SUMMARY:SBDC Staff Fall PD
DESCRIPTION:
URL:https://www.cnmisbdc.com/event/sbdc-staff-fall-pd/
CATEGORIES:Saipan,Tinian,Rota
END:VEVENT
END:VCALENDAR