BEGIN:VCALENDAR
VERSION:2.0
PRODID:-//CNMI Small Business Development Center Network (SBDC) - ECPv6.15.20//NONSGML v1.0//EN
CALSCALE:GREGORIAN
METHOD:PUBLISH
X-WR-CALNAME:CNMI Small Business Development Center Network (SBDC)
X-ORIGINAL-URL:https://www.cnmisbdc.com
X-WR-CALDESC:Events for CNMI Small Business Development Center Network (SBDC)
REFRESH-INTERVAL;VALUE=DURATION:PT1H
X-Robots-Tag:noindex
X-PUBLISHED-TTL:PT1H
BEGIN:VTIMEZONE
TZID:Pacific/Saipan
BEGIN:STANDARD
TZOFFSETFROM:+1000
TZOFFSETTO:+1000
TZNAME:ChST
DTSTART:20240101T000000
END:STANDARD
END:VTIMEZONE
BEGIN:VEVENT
DTSTART;TZID=Pacific/Saipan:20250702T110000
DTEND;TZID=Pacific/Saipan:20250702T133000
DTSTAMP:20260423T175820
CREATED:20240202T033419Z
LAST-MODIFIED:20240320T040550Z
UID:10000037-1751454000-1751463000@www.cnmisbdc.com
SUMMARY:Saipan Chamber of Commerce General Membership Meeting
DESCRIPTION:
URL:https://www.cnmisbdc.com/event/saipan-chamber-of-commerce-general-membership-meeting/2025-07-02/
CATEGORIES:Vendor Opportunities,Events & Outreach,Saipan
END:VEVENT
BEGIN:VEVENT
DTSTART;VALUE=DATE:20250717
DTEND;VALUE=DATE:20250718
DTSTAMP:20260423T175820
CREATED:20240202T033506Z
LAST-MODIFIED:20240320T040549Z
UID:10000157-1752710400-1752796799@www.cnmisbdc.com
SUMMARY:Saipan Chamber of Commerce Armed Forces Committee Meeting
DESCRIPTION:
URL:https://www.cnmisbdc.com/event/saipan-chamber-of-commerce-armed-forces-committee-meeting-del-magofna-cnmi-sbdc-representative/2025-07-17/
CATEGORIES:Vendor Opportunities,Events & Outreach,Saipan
END:VEVENT
BEGIN:VEVENT
DTSTART;TZID=Pacific/Saipan:20250725T080000
DTEND;TZID=Pacific/Saipan:20250725T170000
DTSTAMP:20260423T175820
CREATED:20250219T043724Z
LAST-MODIFIED:20250219T043724Z
UID:10000624-1753430400-1753462800@www.cnmisbdc.com
SUMMARY:Tri-Island Christmas in July (Saipan\, Tinian\, Rota)
DESCRIPTION:
URL:https://www.cnmisbdc.com/event/tri-island-christmas-in-july-saipan-tinian-rota/
CATEGORIES:Vendor Opportunities,Events & Outreach,Saipan,Tinian,Rota
END:VEVENT
END:VCALENDAR