BEGIN:VCALENDAR
VERSION:2.0
PRODID:-//CNMI Small Business Development Center Network (SBDC) - ECPv6.15.20//NONSGML v1.0//EN
CALSCALE:GREGORIAN
METHOD:PUBLISH
X-ORIGINAL-URL:https://www.cnmisbdc.com
X-WR-CALDESC:Events for CNMI Small Business Development Center Network (SBDC)
REFRESH-INTERVAL;VALUE=DURATION:PT1H
X-Robots-Tag:noindex
X-PUBLISHED-TTL:PT1H
BEGIN:VTIMEZONE
TZID:Pacific/Saipan
BEGIN:STANDARD
TZOFFSETFROM:+1000
TZOFFSETTO:+1000
TZNAME:ChST
DTSTART:20240101T000000
END:STANDARD
END:VTIMEZONE
BEGIN:VEVENT
DTSTART;TZID=Pacific/Saipan:20250502T080000
DTEND;TZID=Pacific/Saipan:20250502T170000
DTSTAMP:20260423T212616
CREATED:20250219T043222Z
LAST-MODIFIED:20250219T043222Z
UID:10000616-1746172800-1746205200@www.cnmisbdc.com
SUMMARY:Saipan Industry Day
DESCRIPTION:
URL:https://www.cnmisbdc.com/event/saipan-industry-day/
CATEGORIES:Vendor Opportunities,Events & Outreach,Saipan
END:VEVENT
BEGIN:VEVENT
DTSTART;TZID=Pacific/Saipan:20250506T080000
DTEND;TZID=Pacific/Saipan:20250506T170000
DTSTAMP:20260423T212616
CREATED:20250226T004556Z
LAST-MODIFIED:20250226T004556Z
UID:10000636-1746518400-1746550800@www.cnmisbdc.com
SUMMARY:RCC Board Meeting
DESCRIPTION:
URL:https://www.cnmisbdc.com/event/rcc-board-meeting/
CATEGORIES:Events & Outreach,Saipan
END:VEVENT
BEGIN:VEVENT
DTSTART;TZID=Pacific/Saipan:20250507T110000
DTEND;TZID=Pacific/Saipan:20250507T133000
DTSTAMP:20260423T212616
CREATED:20240202T033419Z
LAST-MODIFIED:20240320T040550Z
UID:10000035-1746615600-1746624600@www.cnmisbdc.com
SUMMARY:Saipan Chamber of Commerce General Membership Meeting
DESCRIPTION:
URL:https://www.cnmisbdc.com/event/saipan-chamber-of-commerce-general-membership-meeting/2025-05-07/
CATEGORIES:Vendor Opportunities,Events & Outreach,Saipan
END:VEVENT
BEGIN:VEVENT
DTSTART;TZID=Pacific/Saipan:20250511T080000
DTEND;TZID=Pacific/Saipan:20250511T170000
DTSTAMP:20260423T212616
CREATED:20250226T004630Z
LAST-MODIFIED:20250226T004630Z
UID:10000637-1746950400-1746982800@www.cnmisbdc.com
SUMMARY:Happy Mothers Day
DESCRIPTION:
URL:https://www.cnmisbdc.com/event/happy-mothers-day/
CATEGORIES:Events & Outreach,Saipan,Tinian,Rota
END:VEVENT
BEGIN:VEVENT
DTSTART;VALUE=DATE:20250515
DTEND;VALUE=DATE:20250516
DTSTAMP:20260423T212616
CREATED:20240202T033506Z
LAST-MODIFIED:20240320T040549Z
UID:10000155-1747267200-1747353599@www.cnmisbdc.com
SUMMARY:Saipan Chamber of Commerce Armed Forces Committee Meeting
DESCRIPTION:
URL:https://www.cnmisbdc.com/event/saipan-chamber-of-commerce-armed-forces-committee-meeting-del-magofna-cnmi-sbdc-representative/2025-05-15/
CATEGORIES:Vendor Opportunities,Events & Outreach,Saipan
END:VEVENT
BEGIN:VEVENT
DTSTART;TZID=Pacific/Saipan:20250522T080000
DTEND;TZID=Pacific/Saipan:20250522T170000
DTSTAMP:20260423T212616
CREATED:20250219T043355Z
LAST-MODIFIED:20250219T043355Z
UID:10000619-1747900800-1747933200@www.cnmisbdc.com
SUMMARY:AI Training
DESCRIPTION:
URL:https://www.cnmisbdc.com/event/ai-training/
CATEGORIES:Vendor Opportunities,Events & Outreach,Saipan
END:VEVENT
BEGIN:VEVENT
DTSTART;TZID=Pacific/Saipan:20250526T080000
DTEND;TZID=Pacific/Saipan:20250526T170000
DTSTAMP:20260423T212616
CREATED:20250219T043420Z
LAST-MODIFIED:20250219T043420Z
UID:10000620-1748246400-1748278800@www.cnmisbdc.com
SUMMARY:Memorial Day
DESCRIPTION:
URL:https://www.cnmisbdc.com/event/memorial-day/
CATEGORIES:Events & Outreach,Saipan
END:VEVENT
END:VCALENDAR