BEGIN:VCALENDAR
VERSION:2.0
PRODID:-//CNMI Small Business Development Center Network (SBDC) - ECPv6.15.20//NONSGML v1.0//EN
CALSCALE:GREGORIAN
METHOD:PUBLISH
X-ORIGINAL-URL:https://www.cnmisbdc.com
X-WR-CALDESC:Events for CNMI Small Business Development Center Network (SBDC)
REFRESH-INTERVAL;VALUE=DURATION:PT1H
X-Robots-Tag:noindex
X-PUBLISHED-TTL:PT1H
BEGIN:VTIMEZONE
TZID:Pacific/Saipan
BEGIN:STANDARD
TZOFFSETFROM:+1000
TZOFFSETTO:+1000
TZNAME:ChST
DTSTART:20240101T000000
END:STANDARD
END:VTIMEZONE
BEGIN:VEVENT
DTSTART;TZID=Pacific/Saipan:20250511T080000
DTEND;TZID=Pacific/Saipan:20250511T170000
DTSTAMP:20260424T022016
CREATED:20250226T004630Z
LAST-MODIFIED:20250226T004630Z
UID:10000637-1746950400-1746982800@www.cnmisbdc.com
SUMMARY:Happy Mothers Day
DESCRIPTION:
URL:https://www.cnmisbdc.com/event/happy-mothers-day/
CATEGORIES:Events & Outreach,Saipan,Tinian,Rota
END:VEVENT
BEGIN:VEVENT
DTSTART;TZID=Pacific/Saipan:20250513T080000
DTEND;TZID=Pacific/Saipan:20250513T170000
DTSTAMP:20260424T022016
CREATED:20250219T043305Z
LAST-MODIFIED:20250219T043305Z
UID:10000617-1747123200-1747155600@www.cnmisbdc.com
SUMMARY:Rota Training- Google Forms Workshop
DESCRIPTION:
URL:https://www.cnmisbdc.com/event/rota-training-google-forms-workshop/
CATEGORIES:Vendor Opportunities,Events & Outreach,Rota
END:VEVENT
END:VCALENDAR