BEGIN:VCALENDAR
VERSION:2.0
PRODID:-//CNMI Small Business Development Center Network (SBDC) - ECPv6.15.20//NONSGML v1.0//EN
CALSCALE:GREGORIAN
METHOD:PUBLISH
X-WR-CALNAME:CNMI Small Business Development Center Network (SBDC)
X-ORIGINAL-URL:https://www.cnmisbdc.com
X-WR-CALDESC:Events for CNMI Small Business Development Center Network (SBDC)
REFRESH-INTERVAL;VALUE=DURATION:PT1H
X-Robots-Tag:noindex
X-PUBLISHED-TTL:PT1H
BEGIN:VTIMEZONE
TZID:Pacific/Saipan
BEGIN:STANDARD
TZOFFSETFROM:+1000
TZOFFSETTO:+1000
TZNAME:ChST
DTSTART:20240101T000000
END:STANDARD
END:VTIMEZONE
BEGIN:VEVENT
DTSTART;TZID=Pacific/Saipan:20251127T080000
DTEND;TZID=Pacific/Saipan:20251127T170000
DTSTAMP:20260423T085223
CREATED:20250219T044043Z
LAST-MODIFIED:20250219T044043Z
UID:10000629-1764230400-1764262800@www.cnmisbdc.com
SUMMARY:Thanksgiving Day
DESCRIPTION:
URL:https://www.cnmisbdc.com/event/thanksgiving-day/
CATEGORIES:Events & Outreach
END:VEVENT
BEGIN:VEVENT
DTSTART;VALUE=DATE:20251120
DTEND;VALUE=DATE:20251121
DTSTAMP:20260423T085223
CREATED:20240202T033506Z
LAST-MODIFIED:20240320T040549Z
UID:10000161-1763596800-1763683199@www.cnmisbdc.com
SUMMARY:Saipan Chamber of Commerce Armed Forces Committee Meeting
DESCRIPTION:
URL:https://www.cnmisbdc.com/event/saipan-chamber-of-commerce-armed-forces-committee-meeting-del-magofna-cnmi-sbdc-representative/2025-11-20/
CATEGORIES:Vendor Opportunities,Events & Outreach,Saipan
END:VEVENT
BEGIN:VEVENT
DTSTART;TZID=Pacific/Saipan:20251111T080000
DTEND;TZID=Pacific/Saipan:20251111T170000
DTSTAMP:20260423T085223
CREATED:20250219T044014Z
LAST-MODIFIED:20250219T044014Z
UID:10000628-1762848000-1762880400@www.cnmisbdc.com
SUMMARY:Veteran's Day
DESCRIPTION:
URL:https://www.cnmisbdc.com/event/veterans-day/
CATEGORIES:Events & Outreach
END:VEVENT
BEGIN:VEVENT
DTSTART;TZID=Pacific/Saipan:20251105T110000
DTEND;TZID=Pacific/Saipan:20251105T133000
DTSTAMP:20260423T085223
CREATED:20240202T033419Z
LAST-MODIFIED:20240320T040550Z
UID:10000041-1762340400-1762349400@www.cnmisbdc.com
SUMMARY:Saipan Chamber of Commerce General Membership Meeting
DESCRIPTION:
URL:https://www.cnmisbdc.com/event/saipan-chamber-of-commerce-general-membership-meeting/2025-11-05/
CATEGORIES:Vendor Opportunities,Events & Outreach,Saipan
END:VEVENT
BEGIN:VEVENT
DTSTART;TZID=Pacific/Saipan:20251104T080000
DTEND;TZID=Pacific/Saipan:20251104T170000
DTSTAMP:20260423T085223
CREATED:20250219T043938Z
LAST-MODIFIED:20250219T043938Z
UID:10000627-1762243200-1762275600@www.cnmisbdc.com
SUMMARY:Citizenship Day
DESCRIPTION:
URL:https://www.cnmisbdc.com/event/citizenship-day/
CATEGORIES:Events & Outreach
END:VEVENT
BEGIN:VEVENT
DTSTART;TZID=Pacific/Saipan:20251017T080000
DTEND;TZID=Pacific/Saipan:20251017T170000
DTSTAMP:20260423T085223
CREATED:20250226T005958Z
LAST-MODIFIED:20250226T005958Z
UID:10000649-1760688000-1760720400@www.cnmisbdc.com
SUMMARY:WEP Cohort 5 Opportunities for Women-owned Businesses
DESCRIPTION:
URL:https://www.cnmisbdc.com/event/wep-cohort-5-opportunities-for-women-owned-businesses/
CATEGORIES:Events & Outreach,Saipan
END:VEVENT
BEGIN:VEVENT
DTSTART;TZID=Pacific/Saipan:20251016T080000
DTEND;TZID=Pacific/Saipan:20251016T170000
DTSTAMP:20260423T085223
CREATED:20250226T005915Z
LAST-MODIFIED:20250226T005915Z
UID:10000648-1760601600-1760634000@www.cnmisbdc.com
SUMMARY:WEP Cohort 5 How to Register in SAM.gov\, How to Develop a Capabilities Statement - Workshop-based
DESCRIPTION:
URL:https://www.cnmisbdc.com/event/wep-cohort-5-how-to-register-in-sam-gov-how-to-develop-a-capabilities-statement-workshop-based/
CATEGORIES:Events & Outreach,Saipan
END:VEVENT
BEGIN:VEVENT
DTSTART;VALUE=DATE:20251016
DTEND;VALUE=DATE:20251017
DTSTAMP:20260423T085223
CREATED:20240202T033506Z
LAST-MODIFIED:20240320T040549Z
UID:10000160-1760572800-1760659199@www.cnmisbdc.com
SUMMARY:Saipan Chamber of Commerce Armed Forces Committee Meeting
DESCRIPTION:
URL:https://www.cnmisbdc.com/event/saipan-chamber-of-commerce-armed-forces-committee-meeting-del-magofna-cnmi-sbdc-representative/2025-10-16/
CATEGORIES:Vendor Opportunities,Events & Outreach,Saipan
END:VEVENT
BEGIN:VEVENT
DTSTART;TZID=Pacific/Saipan:20251015T080000
DTEND;TZID=Pacific/Saipan:20251015T170000
DTSTAMP:20260423T085223
CREATED:20250226T005739Z
LAST-MODIFIED:20250226T005739Z
UID:10000647-1760515200-1760547600@www.cnmisbdc.com
SUMMARY:WEP Cohort 5 How to Become Woman-owned Certified
DESCRIPTION:
URL:https://www.cnmisbdc.com/event/wep-cohort-5-how-to-become-women-owned-certified/
CATEGORIES:Events & Outreach,Saipan
END:VEVENT
BEGIN:VEVENT
DTSTART;TZID=Pacific/Saipan:20251014T080000
DTEND;TZID=Pacific/Saipan:20251014T170000
DTSTAMP:20260423T085223
CREATED:20250226T005643Z
LAST-MODIFIED:20250226T005643Z
UID:10000646-1760428800-1760461200@www.cnmisbdc.com
SUMMARY:WEP Cohort 5 Intro to SBDC Services / Overview of Training Series / Motivational Presentations by Women-owned Businesses
DESCRIPTION:
URL:https://www.cnmisbdc.com/event/wep-cohort-5-intro-to-sbdc-services-overview-of-training-series-motivational-presentations-by-women-owned-businesses/
CATEGORIES:Events & Outreach,Saipan
END:VEVENT
BEGIN:VEVENT
DTSTART;TZID=Pacific/Saipan:20251013T080000
DTEND;TZID=Pacific/Saipan:20251013T170000
DTSTAMP:20260423T085223
CREATED:20250219T043856Z
LAST-MODIFIED:20250219T043856Z
UID:10000626-1760342400-1760374800@www.cnmisbdc.com
SUMMARY:Cultural Day
DESCRIPTION:
URL:https://www.cnmisbdc.com/event/cultural-day/
CATEGORIES:Events & Outreach
END:VEVENT
BEGIN:VEVENT
DTSTART;TZID=Pacific/Saipan:20251001T110000
DTEND;TZID=Pacific/Saipan:20251001T133000
DTSTAMP:20260423T085223
CREATED:20240202T033419Z
LAST-MODIFIED:20240320T040550Z
UID:10000040-1759316400-1759325400@www.cnmisbdc.com
SUMMARY:Saipan Chamber of Commerce General Membership Meeting
DESCRIPTION:
URL:https://www.cnmisbdc.com/event/saipan-chamber-of-commerce-general-membership-meeting/2025-10-01/
CATEGORIES:Vendor Opportunities,Events & Outreach,Saipan
END:VEVENT
BEGIN:VEVENT
DTSTART;VALUE=DATE:20250918
DTEND;VALUE=DATE:20250919
DTSTAMP:20260423T085223
CREATED:20240202T033506Z
LAST-MODIFIED:20240320T040549Z
UID:10000159-1758153600-1758239999@www.cnmisbdc.com
SUMMARY:Saipan Chamber of Commerce Armed Forces Committee Meeting
DESCRIPTION:
URL:https://www.cnmisbdc.com/event/saipan-chamber-of-commerce-armed-forces-committee-meeting-del-magofna-cnmi-sbdc-representative/2025-09-18/
CATEGORIES:Vendor Opportunities,Events & Outreach,Saipan
END:VEVENT
BEGIN:VEVENT
DTSTART;TZID=Pacific/Saipan:20250903T110000
DTEND;TZID=Pacific/Saipan:20250903T133000
DTSTAMP:20260423T085223
CREATED:20240202T033419Z
LAST-MODIFIED:20240320T040550Z
UID:10000039-1756897200-1756906200@www.cnmisbdc.com
SUMMARY:Saipan Chamber of Commerce General Membership Meeting
DESCRIPTION:
URL:https://www.cnmisbdc.com/event/saipan-chamber-of-commerce-general-membership-meeting/2025-09-03/
CATEGORIES:Vendor Opportunities,Events & Outreach,Saipan
END:VEVENT
BEGIN:VEVENT
DTSTART;TZID=Pacific/Saipan:20250901T080000
DTEND;TZID=Pacific/Saipan:20250901T170000
DTSTAMP:20260423T085223
CREATED:20250219T043821Z
LAST-MODIFIED:20250219T043821Z
UID:10000625-1756713600-1756746000@www.cnmisbdc.com
SUMMARY:Labor Day
DESCRIPTION:
URL:https://www.cnmisbdc.com/event/labor-day/
CATEGORIES:Events & Outreach
END:VEVENT
BEGIN:VEVENT
DTSTART;VALUE=DATE:20250821
DTEND;VALUE=DATE:20250822
DTSTAMP:20260423T085223
CREATED:20240202T033506Z
LAST-MODIFIED:20240320T040549Z
UID:10000158-1755734400-1755820799@www.cnmisbdc.com
SUMMARY:Saipan Chamber of Commerce Armed Forces Committee Meeting
DESCRIPTION:
URL:https://www.cnmisbdc.com/event/saipan-chamber-of-commerce-armed-forces-committee-meeting-del-magofna-cnmi-sbdc-representative/2025-08-21/
CATEGORIES:Vendor Opportunities,Events & Outreach,Saipan
END:VEVENT
BEGIN:VEVENT
DTSTART;TZID=Pacific/Saipan:20250807T080000
DTEND;TZID=Pacific/Saipan:20250807T170000
DTSTAMP:20260423T085223
CREATED:20250226T005218Z
LAST-MODIFIED:20250226T005218Z
UID:10000642-1754553600-1754586000@www.cnmisbdc.com
SUMMARY:NMC Fall PD
DESCRIPTION:
URL:https://www.cnmisbdc.com/event/nmc-fall-pd/
CATEGORIES:Events & Outreach,Saipan,Tinian,Rota
END:VEVENT
BEGIN:VEVENT
DTSTART;TZID=Pacific/Saipan:20250806T110000
DTEND;TZID=Pacific/Saipan:20250806T133000
DTSTAMP:20260423T085223
CREATED:20240202T033419Z
LAST-MODIFIED:20240320T040550Z
UID:10000038-1754478000-1754487000@www.cnmisbdc.com
SUMMARY:Saipan Chamber of Commerce General Membership Meeting
DESCRIPTION:
URL:https://www.cnmisbdc.com/event/saipan-chamber-of-commerce-general-membership-meeting/2025-08-06/
CATEGORIES:Vendor Opportunities,Events & Outreach,Saipan
END:VEVENT
BEGIN:VEVENT
DTSTART;TZID=Pacific/Saipan:20250725T080000
DTEND;TZID=Pacific/Saipan:20250725T170000
DTSTAMP:20260423T085223
CREATED:20250219T043724Z
LAST-MODIFIED:20250219T043724Z
UID:10000624-1753430400-1753462800@www.cnmisbdc.com
SUMMARY:Tri-Island Christmas in July (Saipan\, Tinian\, Rota)
DESCRIPTION:
URL:https://www.cnmisbdc.com/event/tri-island-christmas-in-july-saipan-tinian-rota/
CATEGORIES:Vendor Opportunities,Events & Outreach,Saipan,Tinian,Rota
END:VEVENT
BEGIN:VEVENT
DTSTART;VALUE=DATE:20250717
DTEND;VALUE=DATE:20250718
DTSTAMP:20260423T085223
CREATED:20240202T033506Z
LAST-MODIFIED:20240320T040549Z
UID:10000157-1752710400-1752796799@www.cnmisbdc.com
SUMMARY:Saipan Chamber of Commerce Armed Forces Committee Meeting
DESCRIPTION:
URL:https://www.cnmisbdc.com/event/saipan-chamber-of-commerce-armed-forces-committee-meeting-del-magofna-cnmi-sbdc-representative/2025-07-17/
CATEGORIES:Vendor Opportunities,Events & Outreach,Saipan
END:VEVENT
BEGIN:VEVENT
DTSTART;TZID=Pacific/Saipan:20250704T080000
DTEND;TZID=Pacific/Saipan:20250704T170000
DTSTAMP:20260423T085223
CREATED:20250219T043653Z
LAST-MODIFIED:20250219T043653Z
UID:10000623-1751616000-1751648400@www.cnmisbdc.com
SUMMARY:Independence Day
DESCRIPTION:
URL:https://www.cnmisbdc.com/event/independence-day/
CATEGORIES:Events & Outreach
END:VEVENT
BEGIN:VEVENT
DTSTART;TZID=Pacific/Saipan:20250702T110000
DTEND;TZID=Pacific/Saipan:20250702T133000
DTSTAMP:20260423T085223
CREATED:20240202T033419Z
LAST-MODIFIED:20240320T040550Z
UID:10000037-1751454000-1751463000@www.cnmisbdc.com
SUMMARY:Saipan Chamber of Commerce General Membership Meeting
DESCRIPTION:
URL:https://www.cnmisbdc.com/event/saipan-chamber-of-commerce-general-membership-meeting/2025-07-02/
CATEGORIES:Vendor Opportunities,Events & Outreach,Saipan
END:VEVENT
BEGIN:VEVENT
DTSTART;TZID=Pacific/Saipan:20250627T080000
DTEND;TZID=Pacific/Saipan:20250627T170000
DTSTAMP:20260423T085223
CREATED:20250219T043613Z
LAST-MODIFIED:20250219T043613Z
UID:10000622-1751011200-1751043600@www.cnmisbdc.com
SUMMARY:AI Training & Tinian Site Review
DESCRIPTION:
URL:https://www.cnmisbdc.com/event/ai-training-tinian-site-review/
CATEGORIES:Vendor Opportunities,Events & Outreach,Tinian
END:VEVENT
BEGIN:VEVENT
DTSTART;TZID=Pacific/Saipan:20250621T080000
DTEND;TZID=Pacific/Saipan:20250621T170000
DTSTAMP:20260423T085223
CREATED:20250226T004916Z
LAST-MODIFIED:20250226T004916Z
UID:10000640-1750492800-1750525200@www.cnmisbdc.com
SUMMARY:Rota Site Review
DESCRIPTION:
URL:https://www.cnmisbdc.com/event/rota-site-review/
CATEGORIES:Events & Outreach,Rota
END:VEVENT
BEGIN:VEVENT
DTSTART;TZID=Pacific/Saipan:20250619T080000
DTEND;TZID=Pacific/Saipan:20250619T170000
DTSTAMP:20260423T085223
CREATED:20250219T043515Z
LAST-MODIFIED:20250219T043515Z
UID:10000621-1750320000-1750352400@www.cnmisbdc.com
SUMMARY:Juneteenth
DESCRIPTION:
URL:https://www.cnmisbdc.com/event/juneteenth/
CATEGORIES:Events & Outreach
END:VEVENT
BEGIN:VEVENT
DTSTART;VALUE=DATE:20250619
DTEND;VALUE=DATE:20250620
DTSTAMP:20260423T085223
CREATED:20240202T033506Z
LAST-MODIFIED:20240320T040549Z
UID:10000156-1750291200-1750377599@www.cnmisbdc.com
SUMMARY:Saipan Chamber of Commerce Armed Forces Committee Meeting
DESCRIPTION:
URL:https://www.cnmisbdc.com/event/saipan-chamber-of-commerce-armed-forces-committee-meeting-del-magofna-cnmi-sbdc-representative/2025-06-19/
CATEGORIES:Vendor Opportunities,Events & Outreach,Saipan
END:VEVENT
BEGIN:VEVENT
DTSTART;TZID=Pacific/Saipan:20250615T080000
DTEND;TZID=Pacific/Saipan:20250615T170000
DTSTAMP:20260423T085223
CREATED:20250226T004829Z
LAST-MODIFIED:20250226T004829Z
UID:10000639-1749974400-1750006800@www.cnmisbdc.com
SUMMARY:Happy Father's Day!
DESCRIPTION:
URL:https://www.cnmisbdc.com/event/happy-fathers-day/
CATEGORIES:Events & Outreach,Saipan,Tinian,Rota
END:VEVENT
BEGIN:VEVENT
DTSTART;TZID=Pacific/Saipan:20250604T110000
DTEND;TZID=Pacific/Saipan:20250604T133000
DTSTAMP:20260423T085223
CREATED:20240202T033419Z
LAST-MODIFIED:20240320T040550Z
UID:10000036-1749034800-1749043800@www.cnmisbdc.com
SUMMARY:Saipan Chamber of Commerce General Membership Meeting
DESCRIPTION:
URL:https://www.cnmisbdc.com/event/saipan-chamber-of-commerce-general-membership-meeting/2025-06-04/
CATEGORIES:Vendor Opportunities,Events & Outreach,Saipan
END:VEVENT
BEGIN:VEVENT
DTSTART;TZID=Pacific/Saipan:20250604T080000
DTEND;TZID=Pacific/Saipan:20250604T170000
DTSTAMP:20260423T085223
CREATED:20250226T004754Z
LAST-MODIFIED:20250226T004754Z
UID:10000638-1749024000-1749056400@www.cnmisbdc.com
SUMMARY:Tinian USDA FSA
DESCRIPTION:
URL:https://www.cnmisbdc.com/event/tinian-usda-fsa-2/
CATEGORIES:Events & Outreach,Tinian
END:VEVENT
BEGIN:VEVENT
DTSTART;TZID=Pacific/Saipan:20250526T080000
DTEND;TZID=Pacific/Saipan:20250526T170000
DTSTAMP:20260423T085223
CREATED:20250219T043420Z
LAST-MODIFIED:20250219T043420Z
UID:10000620-1748246400-1748278800@www.cnmisbdc.com
SUMMARY:Memorial Day
DESCRIPTION:
URL:https://www.cnmisbdc.com/event/memorial-day/
CATEGORIES:Events & Outreach,Saipan
END:VEVENT
END:VCALENDAR