BEGIN:VCALENDAR
VERSION:2.0
PRODID:-//CNMI Small Business Development Center Network (SBDC) - ECPv6.15.20//NONSGML v1.0//EN
CALSCALE:GREGORIAN
METHOD:PUBLISH
X-WR-CALNAME:CNMI Small Business Development Center Network (SBDC)
X-ORIGINAL-URL:https://www.cnmisbdc.com
X-WR-CALDESC:Events for CNMI Small Business Development Center Network (SBDC)
REFRESH-INTERVAL;VALUE=DURATION:PT1H
X-Robots-Tag:noindex
X-PUBLISHED-TTL:PT1H
BEGIN:VTIMEZONE
TZID:Pacific/Saipan
BEGIN:STANDARD
TZOFFSETFROM:+1000
TZOFFSETTO:+1000
TZNAME:ChST
DTSTART:20230101T000000
END:STANDARD
END:VTIMEZONE
BEGIN:VEVENT
DTSTART;VALUE=DATE:20240902
DTEND;VALUE=DATE:20240903
DTSTAMP:20260424T103442
CREATED:20240206T232437Z
LAST-MODIFIED:20240322T002947Z
UID:10000213-1725235200-1725321599@www.cnmisbdc.com
SUMMARY:HOLIDAY: Labor Day
DESCRIPTION:
URL:https://www.cnmisbdc.com/event/holiday-labor-day/
CATEGORIES:Vendor Opportunities,Events & Outreach,Saipan,Tinian,Rota
END:VEVENT
BEGIN:VEVENT
DTSTART;TZID=Pacific/Saipan:20240904T110000
DTEND;TZID=Pacific/Saipan:20240904T133000
DTSTAMP:20260424T103442
CREATED:20240202T033419Z
LAST-MODIFIED:20240320T040550Z
UID:10000027-1725447600-1725456600@www.cnmisbdc.com
SUMMARY:Saipan Chamber of Commerce General Membership Meeting
DESCRIPTION:
URL:https://www.cnmisbdc.com/event/saipan-chamber-of-commerce-general-membership-meeting/2024-09-04/
CATEGORIES:Vendor Opportunities,Events & Outreach,Saipan
END:VEVENT
BEGIN:VEVENT
DTSTART;VALUE=DATE:20240909
DTEND;VALUE=DATE:20240914
DTSTAMP:20260424T103442
CREATED:20240206T232514Z
LAST-MODIFIED:20240322T012052Z
UID:10000214-1725840000-1726271999@www.cnmisbdc.com
SUMMARY:46th Annual ASBDC Conference
DESCRIPTION:46th Annual ASBDC Conference
URL:https://www.cnmisbdc.com/event/46th-annual-asbdc-conference/
CATEGORIES:Vendor Opportunities,Events & Outreach,Saipan
END:VEVENT
BEGIN:VEVENT
DTSTART;VALUE=DATE:20240919
DTEND;VALUE=DATE:20240920
DTSTAMP:20260424T103442
CREATED:20240202T033506Z
LAST-MODIFIED:20240320T040549Z
UID:10000147-1726704000-1726790399@www.cnmisbdc.com
SUMMARY:Saipan Chamber of Commerce Armed Forces Committee Meeting
DESCRIPTION:
URL:https://www.cnmisbdc.com/event/saipan-chamber-of-commerce-armed-forces-committee-meeting-del-magofna-cnmi-sbdc-representative/2024-09-19/
CATEGORIES:Vendor Opportunities,Events & Outreach,Saipan
END:VEVENT
END:VCALENDAR