BEGIN:VCALENDAR
VERSION:2.0
PRODID:-//CNMI Small Business Development Center Network (SBDC) - ECPv6.15.20//NONSGML v1.0//EN
CALSCALE:GREGORIAN
METHOD:PUBLISH
X-WR-CALNAME:CNMI Small Business Development Center Network (SBDC)
X-ORIGINAL-URL:https://www.cnmisbdc.com
X-WR-CALDESC:Events for CNMI Small Business Development Center Network (SBDC)
REFRESH-INTERVAL;VALUE=DURATION:PT1H
X-Robots-Tag:noindex
X-PUBLISHED-TTL:PT1H
BEGIN:VTIMEZONE
TZID:Pacific/Saipan
BEGIN:STANDARD
TZOFFSETFROM:+1000
TZOFFSETTO:+1000
TZNAME:ChST
DTSTART:20230101T000000
END:STANDARD
END:VTIMEZONE
BEGIN:VEVENT
DTSTART;VALUE=DATE:20240429
DTEND;VALUE=DATE:20240504
DTSTAMP:20260424T173238
CREATED:20240119T051729Z
LAST-MODIFIED:20240322T012137Z
UID:10000014-1714348800-1714780799@www.cnmisbdc.com
SUMMARY:National Small Business Week
DESCRIPTION:
URL:https://www.cnmisbdc.com/event/natl-small-business-week/
CATEGORIES:Events & Outreach,Saipan
END:VEVENT
BEGIN:VEVENT
DTSTART;VALUE=DATE:20240501
DTEND;VALUE=DATE:20240502
DTSTAMP:20260424T173238
CREATED:20240228T054340Z
LAST-MODIFIED:20240322T012053Z
UID:10000598-1714550400-1714582800@www.cnmisbdc.com
SUMMARY:Industry Day w/ PACAF
DESCRIPTION:
URL:https://www.cnmisbdc.com/event/industry-day-w-pacaf/2024-05-01/
CATEGORIES:Vendor Opportunities,Events & Outreach,Saipan
END:VEVENT
BEGIN:VEVENT
DTSTART;TZID=Pacific/Saipan:20240501T110000
DTEND;TZID=Pacific/Saipan:20240501T133000
DTSTAMP:20260424T173238
CREATED:20240202T033419Z
LAST-MODIFIED:20240320T040550Z
UID:10000023-1714561200-1714570200@www.cnmisbdc.com
SUMMARY:Saipan Chamber of Commerce General Membership Meeting
DESCRIPTION:
URL:https://www.cnmisbdc.com/event/saipan-chamber-of-commerce-general-membership-meeting/2024-05-01/
CATEGORIES:Vendor Opportunities,Events & Outreach,Saipan
END:VEVENT
BEGIN:VEVENT
DTSTART;VALUE=DATE:20240510
DTEND;VALUE=DATE:20240511
DTSTAMP:20260424T173238
CREATED:20240119T052019Z
LAST-MODIFIED:20240322T012136Z
UID:10000016-1715299200-1715385599@www.cnmisbdc.com
SUMMARY:EXPORT TRADE TRAINING W/ CHUCK LOPEZ
DESCRIPTION:
URL:https://www.cnmisbdc.com/event/export-trade-training-w-chuck-lopez/
CATEGORIES:Events & Outreach,Saipan
END:VEVENT
BEGIN:VEVENT
DTSTART;VALUE=DATE:20240516
DTEND;VALUE=DATE:20240517
DTSTAMP:20260424T173238
CREATED:20240202T033506Z
LAST-MODIFIED:20240320T040549Z
UID:10000143-1715817600-1715903999@www.cnmisbdc.com
SUMMARY:Saipan Chamber of Commerce Armed Forces Committee Meeting
DESCRIPTION:
URL:https://www.cnmisbdc.com/event/saipan-chamber-of-commerce-armed-forces-committee-meeting-del-magofna-cnmi-sbdc-representative/2024-05-16/
CATEGORIES:Vendor Opportunities,Events & Outreach,Saipan
END:VEVENT
BEGIN:VEVENT
DTSTART;VALUE=DATE:20240522
DTEND;VALUE=DATE:20240523
DTSTAMP:20260424T173238
CREATED:20240119T052115Z
LAST-MODIFIED:20240320T040550Z
UID:10000017-1716336000-1716422399@www.cnmisbdc.com
SUMMARY:FEDERAL CONTRACTING 101 (SAIPAN) W/ GUAM APEX
DESCRIPTION:
URL:https://www.cnmisbdc.com/event/federal-contracting-101-saipan-w-guam-apex/
CATEGORIES:Vendor Opportunities,Events & Outreach,Saipan
END:VEVENT
BEGIN:VEVENT
DTSTART;VALUE=DATE:20240523
DTEND;VALUE=DATE:20240524
DTSTAMP:20260424T173238
CREATED:20240119T052139Z
LAST-MODIFIED:20240320T032044Z
UID:10000018-1716422400-1716508799@www.cnmisbdc.com
SUMMARY:FEDERAL CONTRACTING 101 W/ GUAM APEX & CBMA ADVISING (ROTA)
DESCRIPTION:
URL:https://www.cnmisbdc.com/event/federal-contracting-101-w-guam-apex-cbma-advising-rota/
CATEGORIES:Events & Outreach,Rota
END:VEVENT
BEGIN:VEVENT
DTSTART;VALUE=DATE:20240524
DTEND;VALUE=DATE:20240525
DTSTAMP:20260424T173238
CREATED:20240119T052219Z
LAST-MODIFIED:20240320T032026Z
UID:10000019-1716508800-1716595199@www.cnmisbdc.com
SUMMARY:CYBERSECURITY 101 FOR SMALL BUSINESSES (ROTA)
DESCRIPTION:
URL:https://www.cnmisbdc.com/event/site-review-cybersecurity-101-for-small-businesses-rota/
CATEGORIES:Events & Outreach,Rota
END:VEVENT
BEGIN:VEVENT
DTSTART;VALUE=DATE:20240527
DTEND;VALUE=DATE:20240528
DTSTAMP:20260424T173238
CREATED:20240206T232058Z
LAST-MODIFIED:20240322T002948Z
UID:10000207-1716768000-1716854399@www.cnmisbdc.com
SUMMARY:HOLIDAY: Memorial Day
DESCRIPTION:HOLIDAY: Memorial Day
URL:https://www.cnmisbdc.com/event/holiday-memorial-day/
CATEGORIES:Vendor Opportunities,Events & Outreach,Saipan,Tinian,Rota
END:VEVENT
END:VCALENDAR