BEGIN:VCALENDAR
VERSION:2.0
PRODID:-//CNMI Small Business Development Center Network (SBDC) - ECPv6.15.20//NONSGML v1.0//EN
CALSCALE:GREGORIAN
METHOD:PUBLISH
X-WR-CALNAME:CNMI Small Business Development Center Network (SBDC)
X-ORIGINAL-URL:https://www.cnmisbdc.com
X-WR-CALDESC:Events for CNMI Small Business Development Center Network (SBDC)
REFRESH-INTERVAL;VALUE=DURATION:PT1H
X-Robots-Tag:noindex
X-PUBLISHED-TTL:PT1H
BEGIN:VTIMEZONE
TZID:Pacific/Saipan
BEGIN:STANDARD
TZOFFSETFROM:+1000
TZOFFSETTO:+1000
TZNAME:ChST
DTSTART:20230101T000000
END:STANDARD
END:VTIMEZONE
BEGIN:VEVENT
DTSTART;TZID=Pacific/Saipan:20240207T110000
DTEND;TZID=Pacific/Saipan:20240207T133000
DTSTAMP:20260424T222628
CREATED:20240202T033419Z
LAST-MODIFIED:20240320T040550Z
UID:10000020-1707303600-1707312600@www.cnmisbdc.com
SUMMARY:Saipan Chamber of Commerce General Membership Meeting
DESCRIPTION:
URL:https://www.cnmisbdc.com/event/saipan-chamber-of-commerce-general-membership-meeting/2024-02-07/
CATEGORIES:Vendor Opportunities,Events & Outreach,Saipan
END:VEVENT
BEGIN:VEVENT
DTSTART;VALUE=DATE:20240215
DTEND;VALUE=DATE:20240216
DTSTAMP:20260424T222628
CREATED:20240202T033506Z
LAST-MODIFIED:20240320T040549Z
UID:10000140-1707955200-1708041599@www.cnmisbdc.com
SUMMARY:Saipan Chamber of Commerce Armed Forces Committee Meeting
DESCRIPTION:
URL:https://www.cnmisbdc.com/event/saipan-chamber-of-commerce-armed-forces-committee-meeting-del-magofna-cnmi-sbdc-representative/2024-02-15/
CATEGORIES:Vendor Opportunities,Events & Outreach,Saipan
END:VEVENT
BEGIN:VEVENT
DTSTART;VALUE=DATE:20240215
DTEND;VALUE=DATE:20240216
DTSTAMP:20260424T222628
CREATED:20240206T231131Z
LAST-MODIFIED:20240322T012139Z
UID:10000200-1707955200-1708041599@www.cnmisbdc.com
SUMMARY:Marketing on a Budget: Canva Edition
DESCRIPTION:Marketing on a Budget: Canva Edition
URL:https://www.cnmisbdc.com/event/marketing-on-a-budget-canva-edition/
CATEGORIES:Events & Outreach,Saipan
END:VEVENT
BEGIN:VEVENT
DTSTART;VALUE=DATE:20240219
DTEND;VALUE=DATE:20240220
DTSTAMP:20260424T222628
CREATED:20240206T231236Z
LAST-MODIFIED:20240322T002949Z
UID:10000201-1708300800-1708387199@www.cnmisbdc.com
SUMMARY:HOLIDAY: President's Day
DESCRIPTION:
URL:https://www.cnmisbdc.com/event/holiday-presidents-day/
CATEGORIES:Vendor Opportunities,Events & Outreach,Saipan,Tinian,Rota
END:VEVENT
BEGIN:VEVENT
DTSTART;VALUE=DATE:20240224
DTEND;VALUE=DATE:20240225
DTSTAMP:20260424T222628
CREATED:20240206T231300Z
LAST-MODIFIED:20240322T012139Z
UID:10000202-1708732800-1708819199@www.cnmisbdc.com
SUMMARY:2024 Quality of Life Expo\, Guam\, USA
DESCRIPTION:2024 Quality of Life Expo\, Guam\, USA
URL:https://www.cnmisbdc.com/event/2024-quality-of-life-expo-guam-usa/
CATEGORIES:Events & Outreach,Saipan
END:VEVENT
BEGIN:VEVENT
DTSTART;VALUE=DATE:20240226
DTEND;VALUE=DATE:20240227
DTSTAMP:20260424T222628
CREATED:20240228T054428Z
LAST-MODIFIED:20240322T012138Z
UID:10000227-1708905600-1708991999@www.cnmisbdc.com
SUMMARY:NMC School of Business Training
DESCRIPTION:
URL:https://www.cnmisbdc.com/event/nmc-school-of-business-training/
CATEGORIES:Events & Outreach,Saipan
END:VEVENT
END:VCALENDAR